BEGIN:VCALENDAR
VERSION:2.0
PRODID:-//https://www.gkp.hr///NONSGML kigkonsult.se iCalcreator 2.10.15//
METHOD:PUBLISH
BEGIN:VEVENT
UID:20260421T080108UTC-9343VscNSc@https://www.gkp.hr/
DTSTAMP:20260421T080108Z
DESCRIPTION:Predstavu igramo organizirano za srednje škole\nO predstavi:Na 
 Ivanjsku noć\, najkraću i najčarobniju noć u godini\, kada se\, prema pred
 aji\, miješaju vilinski i ovaj naš ljudski svijet\, mladi Atenjani Helena\
 , Hermija\, Demetrije\, Lisandar te šarolika skupina obrtnika\, ujedno i a
 materskih glumaca\, zaglave u šumi i budu izloženi spletkama\, zabunama i 
 hirovima vila i vilenjaka. Noć naposljetku završi sretno\; razdvojeni zalj
 ubljeni parovi budu spojeni kako i dolikuje/priliči\, a ljudski i vilinski
  svjetovi budu razdvojeni\, kako je svakako bolje za sve.\nDefiniranje i p
 itanje pouke djela ima neobičan i ne-lektirski odgovor i zato ulazimo u vl
 astito promišljanje i možda\, vlastitu filozofiju. Naime\, ne znamo koja j
 e pouka djela. Dok kod ostalih klasičnih komada tog perioda gotovo odmah m
 ožemo odgovoriti da je pouka Ne kradi!\, Ne ubij!\, Ne budi arogantan\, Bo
 gatstvo nije najvažnije\, itd. – ovdje stojimo pred humorom i veseljem tek
 sta\, ali bez konkretnog odgovora ima li taj tekst neki dublji\, moralni o
 slonac\, nešto što ga čini klasikom i s te filozofske strane. I time moram
 o zaključiti – ovaj tekst je vježba veselja. Veselja pisanja\, veselja igr
 anja\, veselja gledanja\, veselja ljubavnih drama i veselja života općenit
 o. On od nas traži da se podsjetimo da su humor\, jednostavnost\, zabuna i
  romantika životne i kazališne teme ravnopravne osveti\, patnji i nesreći.
  Ovaj tekst je remek-djelo jer nas veselo opominje: Ne uzimajte sebe ozbil
 jno!\, “Ne budite zle nam volje\, drugi puta bit će bolje” – a ta se lekci
 ja možda ipak lakše\, konkretnije i dugotrajnije prenosi putem lakoće i ra
 zigranosti\, a ne drame\, patnje i suza. I hvala piscu na toj genijalnosti
 .\nVježbanje veselja bilo je i glavna potka rada na ovoj predstavi Sna koj
 a je nastala iz ispita glume na Akademiji dramske umjetnosti u Zagrebu pod
  mentorstvom Renea Medvešeka i Sare Stanić Blažević. Uz tek nekoliko rekvi
 zita i jednostavna kostimografska rješenja tadašnji su studenti druge godi
 ne na praznoj pozornici bili prepušteni vlastitoj mašti i hrabrosti izvedb
 e. Iako je njih šestero preuzelo sve uloge ove složene komedije\, njezini 
 se zapleti i dalje lako prate\, što dijelom zahvaljujemo Bardu (i vještim 
 Sarinim škaricama\, op. Renea Medvešeka)\, a dijelom talentu i sposobnosti
  preobrazbe mladih glumaca\, koji su se od svog prvog uspješnog nastupa na
 dali nekoj prilici da se svome Snu vrate u profesionalnim uvjetima\, što i
 m je nekoliko godina kasnije ova neobična troprodukcija Teatra EXIT\, Grad
 skog kazališta Požega i Akademije dramske umjetnosti i omogućila.\nZa ovaj
  su uvod zapravo važne samo dvije riječi: mašta svih uključenih\, glumaca 
 i publike\, i čarolija: čarolija igre\, gledanja i naravno\, posljednje\, 
 ali ne i najmanje važno\, prve zaljubljenosti.\nTrajanje: 1h i 40 min\nAut
 orski tim:Tekst: William ShakespearePrilagodba i režija: Rene Medvešek i S
 ara Stanić\nIgraju: Nika Barišić\, Vid Ćosić\, Filip Lugarić\, Ružica Maur
 us\, Lara Nekić\, Kristijan Petelin\nOblikovatelj rasvjete: Martin Šatović
 Majstor rasvjete: Martin Miščin / Goran KrmpotićKostimografkinja: Martina 
 PtičarFotograf: Robert DemoDizajnerica plakata: Sara DumančićSuradnice na 
 ispitnoj produkciji ADU: Kristina Grubiša\, Antonela Tošić\, Marta Radoš\,
  Dina Kundih\nProdukcija: Teatar EXIT\, Gradsko kazalište Požega\, Akademi
 ja dramske umjetnosti Zagreb https://www.gkp.hr/program/event/958-san-ivan
 jske-noci-gradsko-kazaliste-pozega-teatar-exit
DTSTART:20250327T083000Z
DTEND:20250327T094500Z
LOCATION:Gradsko kazalište Požega (Trg Svetog Trojstva\, 34000\, Požega\, C
 roatia)
SUMMARY:San ivanjske noći - Gradsko kazalište Požega/ Teatar Exit 
URL:https://www.gkp.hr/program/event/958-san-ivanjske-noci-gradsko-kazalist
 e-pozega-teatar-exit
END:VEVENT
END:VCALENDAR
