BEGIN:VCALENDAR
VERSION:2.0
PRODID:-//https://www.gkp.hr///NONSGML kigkonsult.se iCalcreator 2.10.15//
METHOD:PUBLISH
BEGIN:VEVENT
UID:20260424T024148UTC-1538wPcr1U@https://www.gkp.hr/
DTSTAMP:20260424T024148Z
DESCRIPTION:29. ožujka u 11.00\n'Zuboland' gostuje u Županji (Dvorana mlado
 st) na 28. Lutkarskom proljeću https://www.gkp.hr/program/event/692-zubola
 nd-gostovanje-u-zupanji
DTSTART:20230329T090000Z
DTEND:20230329T094000Z
LOCATION:Županja ()
SUMMARY:Zuboland - gostovanje u Županji
URL:https://www.gkp.hr/program/event/692-zuboland-gostovanje-u-zupanji
END:VEVENT
BEGIN:VEVENT
UID:20260424T024148UTC-1539InPgUF@https://www.gkp.hr/
DTSTAMP:20260424T024148Z
DESCRIPTION:29. ožujka u 18.00\n'Zuboland' gostuje u Vukovaru (Hrvatski dom
  Vukovar) na 28. Lutkarskom proljeću https://www.gkp.hr/program/event/693-
 zuboland-gostovanje-u-vukovaru
DTSTART:20230329T160000Z
DTEND:20230329T164000Z
LOCATION:Hrvatski dom Vukovar (Ulica Josipa Jurja Strossmayera 20\, Vukovar
 )
SUMMARY:Zuboland - gostovanje u Vukovaru
URL:https://www.gkp.hr/program/event/693-zuboland-gostovanje-u-vukovaru
END:VEVENT
END:VCALENDAR
