BEGIN:VCALENDAR
VERSION:2.0
PRODID:-//https://www.gkp.hr///NONSGML kigkonsult.se iCalcreator 2.10.15//
METHOD:PUBLISH
BEGIN:VEVENT
UID:20260424T003603UTC-9476VUzUXt@https://www.gkp.hr/
DTSTAMP:20260424T003603Z
DESCRIPTION:30. ožujka u 10.00\, 12.00 i 14.00 h\n'Zuboland' gostuje u Vink
 ovcima ( GK Joza Ivakić Vinkovci ) na 28. Lutkarskom proljeću https://www.
 gkp.hr/program/event/694-zuboland-gostovanje-u-vinkovcima
DTSTART;VALUE=DATE:20230330
LOCATION:Gradsko kazalište Joza Ivakić - Vinkovci (Ulica Hrvatskih žrtava 2
  \, Vinkovci)
SUMMARY:Zuboland - gostovanje u Vinkovcima
URL:https://www.gkp.hr/program/event/694-zuboland-gostovanje-u-vinkovcima
END:VEVENT
END:VCALENDAR
