BEGIN:VCALENDAR
VERSION:2.0
PRODID:-//https://www.gkp.hr///NONSGML kigkonsult.se iCalcreator 2.10.15//
METHOD:PUBLISH
BEGIN:VEVENT
UID:20260424T025536UTC-3678XI1da3@https://www.gkp.hr/
DTSTAMP:20260424T025536Z
DESCRIPTION:31. ožujka u 11.00\n'Zuboland' gostuje u Otoku (Dom kulture) na
  28. Lutkarskom proljeću https://www.gkp.hr/program/event/696-zuboland-gos
 tovanje-u-otoku
DTSTART:20230331T090000Z
DTEND:20230331T094000Z
LOCATION:Otok (Dom kulture)
SUMMARY:Zuboland - gostovanje u Otoku
URL:https://www.gkp.hr/program/event/696-zuboland-gostovanje-u-otoku
END:VEVENT
END:VCALENDAR
