BEGIN:VCALENDAR
VERSION:2.0
PRODID:-//https://www.gkp.hr///NONSGML kigkonsult.se iCalcreator 2.10.15//
METHOD:PUBLISH
BEGIN:VEVENT
UID:20260421T083850UTC-1992RuoG8x@https://www.gkp.hr/
DTSTAMP:20260421T083850Z
DESCRIPTION:„Botaničari“ – interaktivno edukativna komedija o običnim ljudi
 ma koji postaju eko junaci!\nPronalaskom sjemenki drevne biljke imena Maxi
 mus Botanicus\, botaničar Florijan Stolisnik i njegov vjerni pomoćnik vrtl
 ar Borko kreću u misiju spašavanja zemaljske kugle od ekološke katastrofe 
 i sigurne propasti. Naizgled jednostavan proces sadnje biljke\, uslijed ne
 predviđenih okolnosti i posebne pripreme sudbonosne sjemenke\, pretvara se
  u komičnu avanturu. Tek u suradnji s publikom naši junaci pronalaze rješe
 nja i to u recikliranju\, prenamjeni i sortiranju otpada kako bi pripremil
 i mjesto za uspješnu sadnju tako bitne biljke. Ključ avanture je pronaći v
 lastiti način kako očuvati okoliš. Stoga bacimo se u potragu!\nAutor i red
 atelj: Goran SmoljanovićDramaturgija: Marta Maria Mekovec de CarvalhoIgraj
 u: Ivan Pokupić i Goran SmoljanovićGlazba: Bojan Sauerborn i Željko ŠeregK
 ostimografija: Selena Gazda\nCijena ulaznice: 5 EUR\nKlikni i kupi ulaznic
 u online!\nProdaja ulaznica u radno vrijeme blagajne kazališta: srijedom i
  petkom od 10 do 12 sati\, četvrtkom od 15 do 17 sati\, te sat vremena pri
 je početka predstave.\nKontakt: 099 273 1616\n&nbsp\; https://www.gkp.hr/p
 rogram/event/1073-botanicari-teatar-to-go
DTSTART:20260418T090000Z
DTEND:20260418T094500Z
LOCATION:Gradsko kazalište Požega (Trg Svetog Trojstva\, 34000\, Požega\, C
 roatia)
SUMMARY:Botaničari - Teatar To Go
URL:https://www.gkp.hr/program/event/1073-botanicari-teatar-to-go
END:VEVENT
BEGIN:VEVENT
UID:20260421T083850UTC-1995Muv2xf@https://www.gkp.hr/
DTSTAMP:20260421T083850Z
DESCRIPTION:O autoru: Marc Camoletti (1923. – 2003.) je francuski dramatiča
 r najpoznatiji po svojim laganim komedijama situacije. Njegov najveći hit\
 , Boeing Boeing\, uvršten je u Guinnessovu knjigu rekorda kao najizvođenij
 a francuska drama na svijetu. 'Pidžama za šestero' (izvorno Pyjamas pour s
 ix) svojevrsni je nastavak tog duha\, pružajući publici vrhunsku zabavu i 
 savršen bijeg od svakodnevice.\nO predstavi: Što se dogodi kada planirani 
 romantični vikend s ljubavnicom krene po zlu? Odgovor nudi 'Pidžama za šes
 tero'\, jedna od najizvođenijih suvremenih farsi koja već desetljećima nas
 mijava publiku diljem svijeta. Autor Marc Camoletti\, majstor 'bulevarskog
  kazališta'\, u ovom nas djelu uvodi u labirint laži\, zamijenjenih identi
 teta i nevjerojatnih slučajnosti. Radnja je smještena u šarmantno preuređe
 nu seosku kuću u blizini Pariza. Bernard se nadao savršenom alibiju dok mu
  je supruga Jacqueline trebala biti odsutna. Angažirao je kuharicu (kako b
 i impresionirao ljubavnicu) i pozvao najboljeg prijatelja Roberta da mu 'č
 uva leđa'. No\, kad Jacqueline odluči ostati kod kuće\, započinje suluda i
 gra u kojoj svatko mora igrati ulogu koja mu ne pripada. Kroz brze dijalog
 e\, neprestane ulaske i izlaske te komične nesporazume\, 'Pidžama za šeste
 ro' razotkriva ljudske slabosti na krajnje simpatičan i duhovit način. Ovo
  je predstava o pokušajima da se sačuva obraz dok se istovremeno gubi razu
 m u mreži vlastitih spletki.Autorski tim:Režija i adaptacija teksta: Vladi
 mir Andrić\nGlume: Matko Trnačić – Bernard\, Anabela Sulić – Jacqueline\, 
 Ivan Vukelić – Robert\, Selena Andrić – Suzette\, Ivona Alavanja – Suzzane
 \, Aleksandar Kojić – George\nScenografija: Vladimir AndrićKostimografija:
  Ana MikulićScenski pokret: Ilijana LončarOblikovatelj rasvjete: Goran Krm
 potićMajstor tona: Dario HakInspicijent: Renato PokGarderobijerka: Ljiljan
 a RodićRekviziter: Mihael KovačevićFoto: Robert DemoDizajn plakata: Denis 
 Treskanica\nProdukcija: Gradsko kazalište Požega\, travanj 2026.\nCijena u
 laznice: 12 EUR (studenti i umirovljenici 10 EUR)\nKlikni i kupi ulaznicu 
 online!\nProdaja ulaznica u radno vrijeme blagajne kazališta: srijedom i p
 etkom od 10 do 12 sati\, četvrtkom od 15 do 17 sati\, te sat vremena prije
  početka predstave.\nKontakt: 099 273 1616\n&nbsp\; https://www.gkp.hr/pro
 gram/event/1084-pidzama-za-sestero-gradsko-kazaliste-pozega
DTSTART:20260418T180000Z
DTEND:20260418T193000Z
LOCATION:Gradsko kazalište Požega (Trg Svetog Trojstva\, 34000\, Požega\, C
 roatia)
SUMMARY:Pidžama za šestero - Gradsko kazalište Požega
URL:https://www.gkp.hr/program/event/1084-pidzama-za-sestero-gradsko-kazali
 ste-pozega
END:VEVENT
END:VCALENDAR
