BEGIN:VCALENDAR
VERSION:2.0
PRODID:-//https://www.gkp.hr///NONSGML kigkonsult.se iCalcreator 2.10.15//
METHOD:PUBLISH
BEGIN:VEVENT
UID:20260422T105024UTC-4669c9PRDP@https://www.gkp.hr/
DTSTAMP:20260422T105024Z
DESCRIPTION:14. Županijski kulturni mozaik&nbsp\; - Zajednica kulturnih udr
 uga Požeško-slavonske županije \n- ulaz besplatan https://www.gkp.hr/progr
 am/event/1079-14-zupanijski-kulturni-mozaik
DTSTART:20260419T150000Z
DTEND:20260419T163000Z
LOCATION:Gradsko kazalište Požega (Trg Svetog Trojstva\, 34000\, Požega\, C
 roatia)
SUMMARY:14. Županijski kulturni mozaik
URL:https://www.gkp.hr/program/event/1079-14-zupanijski-kulturni-mozaik
END:VEVENT
END:VCALENDAR
