BEGIN:VCALENDAR
VERSION:2.0
PRODID:-//https://www.gkp.hr///NONSGML kigkonsult.se iCalcreator 2.10.15//
METHOD:PUBLISH
BEGIN:VEVENT
UID:20260420T122145UTC-4928vpx3EO@https://www.gkp.hr/
DTSTAMP:20260420T122145Z
DESCRIPTION:Treća je dječja - Bajka sva od šećera\nBajka sva od šećera prič
 a je o jednoj Crvenkapici\, jednoj Baki i jednom neobičnom Vuku koji voli 
 djecu\, a još više voli slatkiše i kolače. Pa tko bi\, uostalom\, pokraj č
 okoladne torte i htio pojesti Baku?Kroz jednu od najpoznatijih bajki braće
  Grimm bavimo se važnosti negativaca u bajkama i što oni nose kroz priču.&
 nbsp\;Može li Crvenkapica uopće postojati bez Zločestog Vuka pogledajte u 
 lutkarskoj predstavi Bajka sva od šećera.\nglume: Monika Duvnjak\, Goran V
 učko\, Silvijo Švast\, Nikola Radoš\, Mateo Pšihistalglas pripovjedača: Dr
 aško Zidar\nautorica teksta i redateljica: Sara Lustigscenograf i oblikova
 telj lutaka: Mario Tomaševićoblikovatelji svjetla: Domagoj Garaj i Sara Lu
 stigskladatelj: Vedran GorjupPredstava u koprodukciji Kazališta Virovitica
  i Gradskog kazališta Joza Ivakić Vinkovci\nCijena ulaznice: 4 EUR\nRezerv
 acija i prodaja ulaznica isključivo u radno vrijeme blagajne kazališta:&nb
 sp\;srijedom i petkom od 10 do 12 sati\, četvrtkom od 15 do 17 sati\, te s
 at vremena prije početka predstave\nKontakt: 099 273 1616\nKlikni i kupi u
 laznicu online!\n&nbsp\; https://www.gkp.hr/program/event/842-bajka-sva-od
 -secera-kazaliste-virovitica
DTSTART:20240420T090000Z
DTEND:20240420T094500Z
LOCATION:Gradsko kazalište Požega (Trg Svetog Trojstva\, 34000\, Požega\, C
 roatia)
SUMMARY:Bajka sva od šećera - Kazalište Virovitica
URL:https://www.gkp.hr/program/event/842-bajka-sva-od-secera-kazaliste-viro
 vitica
END:VEVENT
END:VCALENDAR
