BEGIN:VCALENDAR
VERSION:2.0
PRODID:-//https://www.gkp.hr///NONSGML kigkonsult.se iCalcreator 2.10.15//
METHOD:PUBLISH
BEGIN:VEVENT
UID:20260423T085448UTC-3906iRFkgv@https://www.gkp.hr/
DTSTAMP:20260423T085448Z
DESCRIPTION:21. travnja u 19.30 h\nKoncert „Najljepše skladbe i pjesme Slav
 onske rapsodije' - Županijski tamburaški orkestar 'Vallis Aurea'\n&nbsp\;-
  rezervacija ulaznica: 098 793 343\, Saša Botički https://www.gkp.hr/progr
 am/event/1080-najljepse-skladbe-i-pjesme-slavonske-rapsodije-zupanijski-ta
 mburaski-orkestar-vallis-aurea
DTSTART:20260421T173000Z
DTEND:20260421T190000Z
LOCATION:Gradsko kazalište Požega (Trg Svetog Trojstva\, 34000\, Požega\, C
 roatia)
SUMMARY:'Najljepše skladbe i pjesme Slavonske rapsodije' - Županijski tambu
 raški orkestar 'Vallis Aurea'
URL:https://www.gkp.hr/program/event/1080-najljepse-skladbe-i-pjesme-slavon
 ske-rapsodije-zupanijski-tamburaski-orkestar-vallis-aurea
END:VEVENT
END:VCALENDAR
