BEGIN:VCALENDAR
VERSION:2.0
PRODID:-//https://www.gkp.hr///NONSGML kigkonsult.se iCalcreator 2.10.15//
METHOD:PUBLISH
BEGIN:VEVENT
UID:20260425T041004UTC-9711Etuw8G@https://www.gkp.hr/
DTSTAMP:20260425T041004Z
DESCRIPTION:24. travnja 2026 u 18.00 h\nSvečana akademija povodom 70 godina
  Ekonomske škole u Požegi https://www.gkp.hr/program/event/1081-svecana-ak
 ademija-povodom-70-godina-ekonomske-skole-u-pozegi
DTSTART:20260424T160000Z
DTEND:20260424T170000Z
LOCATION:Gradsko kazalište Požega (Trg Svetog Trojstva\, 34000\, Požega\, C
 roatia)
SUMMARY:Svečana akademija povodom 70 godina Ekonomske škole u Požegi
URL:https://www.gkp.hr/program/event/1081-svecana-akademija-povodom-70-godi
 na-ekonomske-skole-u-pozegi
END:VEVENT
END:VCALENDAR
