BEGIN:VCALENDAR
VERSION:2.0
PRODID:-//https://www.gkp.hr///NONSGML kigkonsult.se iCalcreator 2.10.15//
METHOD:PUBLISH
BEGIN:VEVENT
UID:20260421T220113UTC-5143zBiLBS@https://www.gkp.hr/
DTSTAMP:20260421T220113Z
DESCRIPTION:4. svibnja u 20.00 sati\nGuja u njedrima gostuje u HNK u Šibeni
 ku.\n&nbsp\; https://www.gkp.hr/program/event/571-guja-u-njedrima-gostovan
 je-u-sibeniku
DTSTART:20220504T180000Z
DTEND:20220504T192000Z
LOCATION:HNK u Šibeniku ()
SUMMARY:Guja u njedrima - gostovanje u Šibeniku
URL:https://www.gkp.hr/program/event/571-guja-u-njedrima-gostovanje-u-siben
 iku
END:VEVENT
END:VCALENDAR
