BEGIN:VCALENDAR
VERSION:2.0
PRODID:-//https://www.gkp.hr///NONSGML kigkonsult.se iCalcreator 2.10.15//
METHOD:PUBLISH
BEGIN:VEVENT
UID:20260420T061753UTC-9428shRUWg@https://www.gkp.hr/
DTSTAMP:20260420T061753Z
DESCRIPTION:5. svibnja u 20.30 sati\nGuja u njedrima gostuje na Murteru\, K
 ino sala Žut https://www.gkp.hr/program/event/572-guja-u-njedrima-gostovan
 je-na-murteru
DTSTART:20220505T183000Z
DTEND:20220505T195000Z
LOCATION:Kino sala Žut (Murter)
SUMMARY:Guja u njedrima - gostovanje na Murteru
URL:https://www.gkp.hr/program/event/572-guja-u-njedrima-gostovanje-na-murt
 eru
END:VEVENT
END:VCALENDAR
