BEGIN:VCALENDAR
VERSION:2.0
PRODID:-//https://www.gkp.hr///NONSGML kigkonsult.se iCalcreator 2.10.15//
METHOD:PUBLISH
BEGIN:VEVENT
UID:20260420T130006UTC-5420ATvpcv@https://www.gkp.hr/
DTSTAMP:20260420T130006Z
DESCRIPTION:Tradicionalni koncert 'Najljepše skladbe i pjesme šokačke rapso
 dije' i prvi samostalni koncert orkestra pod imenom Županijski tamburaški 
 orkestar Vallis Aurea!\nDobrovoljni prilog za rezervaciju mjesta je minima
 lno 7 €\, a rezervirati možete pozivom na broj 098793343. https://www.gkp.
 hr/program/event/850-najljepse-skladbe-i-pjesme-sokacke-rapsodije-zto-vall
 is-aurea
DTSTART:20240507T173000Z
DTEND:20240507T192000Z
LOCATION:Gradsko kazalište Požega (Trg Svetog Trojstva\, 34000\, Požega\, C
 roatia)
SUMMARY:Najljepše skladbe i pjesme Šokačke rapsodije - ŽTO Vallis Aurea
URL:https://www.gkp.hr/program/event/850-najljepse-skladbe-i-pjesme-sokacke
 -rapsodije-zto-vallis-aurea
END:VEVENT
END:VCALENDAR
