BEGIN:VCALENDAR
VERSION:2.0
PRODID:-//https://www.gkp.hr///NONSGML kigkonsult.se iCalcreator 2.10.15//
METHOD:PUBLISH
BEGIN:VEVENT
UID:20260420T112647UTC-8809LteOUU@https://www.gkp.hr/
DTSTAMP:20260420T112647Z
DESCRIPTION:Humanitarna predstava u Požegi - Ocat i sin za 'Lavicu Ivanu'Iv
 ana Berković je prijateljica jedne od naših fanova koja je zatražila našu 
 pomoć na koju smo odmah pristali. Ivana boluje od trostruko negativnog tum
 ora dojke\, koji trenutno liječi u Turskoj u poliklinici Acibadem\, s obzi
 rom da su troškovi abnormalno veliki idemo zajedno svi pomoći oko prihoda 
 za nju. Od danas je moguće rezervirati svoje mjesto za predstavu a javiti 
 se možete Ivani Đelajlić na broj 0997769784 zbog rezervacije mjesta. Ivana
  će vas upisati pod ime i prezime i na dan predstave ćete doći na blagajnu
  kazališta gdje ćete reći svoje ime i prezime i preuzeti broj sjedećeg mje
 sta te će biti kutija za donacije gdje možete staviti svoju donaciju za Iv
 anu Berković. Sav prihod od ulaznica će ići za nju.‼️VAŽNO‼️ kazalište NE 
 prodaje ulaznice niti se kod njih izvršava rezervacija već kod navedenog k
 ontakta Ivane Đelajlić! HVALA VAM UNAPRIJED I IDEMO ODRADITI SA ❤️ HUMANIT
 ARNO ZA LAVICUU ovoj predstavi / komediji vidi se generacijski jaz oca i s
 ina. I dok otac predstavlja stariju generaciju i teži sigurnijim metodama\
 , sin je tipičan primjer modernog dečka koji voli sve što vole mladi. Otac
  je isplanirao cijeli dan\, no sin ima druge planove jer se sprema na spoj
 . Ponosni otac koristi sve svoje moći kako bi sina pripremio na najbolji m
 ogući način.Uloge:Zlatan Zuhrić Zuhra i Tin Sedlar&nbsp\; https://www.gkp.
 hr/program/event/846-ocat-i-sin-komedija-humanitarna-predstava
DTSTART:20240508T180000Z
DTEND:20240508T194500Z
LOCATION:Gradsko kazalište Požega (Trg Svetog Trojstva\, 34000\, Požega\, C
 roatia)
SUMMARY:Ocat i sin - komedija / humanitarna predstava
URL:https://www.gkp.hr/program/event/846-ocat-i-sin-komedija-humanitarna-pr
 edstava
END:VEVENT
END:VCALENDAR
