BEGIN:VCALENDAR
VERSION:2.0
PRODID:-//https://www.gkp.hr///NONSGML kigkonsult.se iCalcreator 2.10.15//
METHOD:PUBLISH
BEGIN:VEVENT
UID:20260420T082831UTC-7253CU6VTE@https://www.gkp.hr/
DTSTAMP:20260420T082831Z
DESCRIPTION:Da pa? (prema motivima drame „Nula kuna po minuti“ Karmele Špol
 jarić)Kad si u OBITELJSKOJ TARIFI razgovori su NULA KUNA PO MINUTI\, dok b
 i oni uživo mogli puno više&nbsp\;KOŠTATI.Tinejđerska drama „Nula kuna po 
 minuti“ hrvatske autorice Karmele Špoljarić nagrađena je&nbsp\;nagradom „M
 arin Držić 2011. godine“ no i desetak godina nakon toga tema je i više neg
 o aktualna.Užurbani životi\, iskrivljena slika društva kojom nas bombardir
 aju preko društvenih mreža\, manjak&nbsp\;komunikacije\, nerazumijevanje i
  neprihvaćanje različitosti uz sve to i pandemija koja nas je još višezatv
 orila u nas same i otuđila jedne od drugih. Pretvorili smo se u društvo zo
 mbija koje ne skida&nbsp\;pogled s ekrana. Poput voajera promatramo tuđe ž
 ivote i njihove probleme dok smo u isto vrijemenesvjesni vlastitih života 
 i problema s kojima se trebamo uhvatiti u koštac. Roditelji prenatrpani&nb
 sp\;poslom i brigama „odraslih“ nemaju vremena za „dječje gluposti“\, a ka
 da uhvate vremena običnobude prekasno…Kroz život koračamo kao da je masken
 bal\, spretno skrivajući svoje pravo lice\, osjećaje i probleme dok&nbsp\;
 javno prezentiramo uljepšanu sliku naše svakodnevice. Jedno govorimo\, dru
 go mislimo\, a trećeobjavljujemo.Poznajemo li svoje prijatelje?Poznaju li 
 roditelji svoju djecu?Poznaju li djeca svoje roditelje?Poznajemo li sami s
 ebe?ANA\, 17 godina (o roditeljima)„Pa oni su miljama daleko od svega\, ne
 maju pojma kako se danas živi. Ne kuže ništa i ne znaju ništa.“RENE\, 16 g
 odina (o izlascima)„Kad zasvira Ceca stari moj… Sve te skulirane trebice\,
  sve se dižu\, bulje se njišu\, ruke u zraku!“LUCIJA\, 16 godina (o mami)„
 Čak sam je neki dan ulovila kako gleda stranicu s plastičnim operacijama! 
 Brijem da je pucaju većecice i silikoni.“RODITELJI:„Bože! Kako to govoriš?
  Kao da si odrasla! Preko noći!“„Što to pričaš? Pa ti si dijete!“„Nije me 
 briga za takve gluposti!“„Slušaj\, nemoj se praviti pametna!“„Ne znam sada
 \, imam puno posla. Nemoj mi samo raditi bespotrebne skandale i scene.“IGR
 AJUPaula Matanović\,&nbsp\;Petar Vrgoč\,&nbsp\;Marta Matoković\,&nbsp\;Kla
 ra Malčić\,&nbsp\;Zaharije Matijević\,&nbsp\;Antonija Markanjević\,&nbsp\;
 Lorena Grgić\,&nbsp\;Ena Martić\,&nbsp\;Ivan Vukelić\nREDATELJAndrija Kriš
 tof\nInformacije: 034/273-161\, marketing@gkp.hr\, FBUlaz slobodan. Rezerv
 acija ulaznica nije potrebna. https://www.gkp.hr/program/event/719-da-pa-s
 rednjoskolska-kazalisna-druzina-skad
DTSTART:20230509T180000Z
DTEND:20230509T190000Z
LOCATION:Gradsko kazalište Požega (Trg Svetog Trojstva\, 34000\, Požega\, C
 roatia)
SUMMARY:Da pa? - Srednjoškolska kazališna družina (SKAD)
URL:https://www.gkp.hr/program/event/719-da-pa-srednjoskolska-kazalisna-dru
 zina-skad
END:VEVENT
END:VCALENDAR
