BEGIN:VCALENDAR
VERSION:2.0
PRODID:-//https://www.gkp.hr///NONSGML kigkonsult.se iCalcreator 2.10.15//
METHOD:PUBLISH
BEGIN:VEVENT
UID:20260420T095225UTC-34935MF0He@https://www.gkp.hr/
DTSTAMP:20260420T095225Z
DESCRIPTION:Mala škola kazališta - 'Tajna škola za tajne agente' na 26. Međ
 unarodnom festivalu dječjih kazališta 'Maslačak' u Sisku\nTekst: Nina Horv
 at\nVoditeljica: Kornelija Marks\nGlume: Mia Jelušić\, Dunja Akšamović\, N
 era Bitunjac\, Karlo Milinković\, Leon Božić\, Petra Matijević\, Rafaela K
 ostadinović\, Nadia Milaković\, Ana Barić\, Iva Barić\, Liza BitunjacEva J
 osipović\, Petra Kapel https://www.gkp.hr/program/event/851-tajna-skola-za
 -tajne-agente-26-medunarodni-festival-djecjih-kazalista-maslacak
DTSTART:20240509T120000Z
DTEND:20240509T123500Z
LOCATION:Sisak ()
SUMMARY:Tajna škola za tajne agente - 26. Međunarodni festival dječjih kaza
 lišta 'Maslačak'
URL:https://www.gkp.hr/program/event/851-tajna-skola-za-tajne-agente-26-med
 unarodni-festival-djecjih-kazalista-maslacak
END:VEVENT
END:VCALENDAR
