BEGIN:VCALENDAR
VERSION:2.0
PRODID:-//https://www.gkp.hr///NONSGML kigkonsult.se iCalcreator 2.10.15//
METHOD:PUBLISH
BEGIN:VEVENT
UID:20260421T001020UTC-2853BOUpVv@https://www.gkp.hr/
DTSTAMP:20260421T001020Z
DESCRIPTION:'Guja u njedrima' ('Snake In The Grass' 2002.) kazališni tekst 
 poznatog i svjetski priznatog autora Alana Ayckbourna na zanimljiv i intri
 gantan način donosi dojmljivu i slojevitu priču.Nakon trideset godina\, An
 abela dolazi u obiteljski dom gdje živi njena mlađa sestra Miriam koja je 
 cijeli svoj život ostala uz oca. Neposredno prije smrti otac je neočekivan
 o ostavio cijelo nasljedstvo Anabeli.Alisa\, njegovateljica pokojnog oca\,
  ispriča joj kako je od Miriam dobila otkaz prije negoli je otac preminuo 
 i tvrdi da je njena sestra ubila oca. Alisa prijeti i ucjenjuje kako će sv
 e prijaviti policiji ukoliko joj se ne plati pozamašna svota novca kao kom
 penzacija za otkaz i šutnju. Dvije sestre\, Anabela i Miriam\, ujedinjuju 
 se u odluci da pokušaju riješiti problem s ucjenom.Vješto vođena priča u v
 iše obrata donosi studiju obiteljskih odnosa između tri žene kompleksnih i
  „pomaknutih' karaktera.U izazovnim glumačkim interpretacijama\, kroz crni
  humor i u duhu napetog psihološkog trilera\, pratimo potpuno neočekivane 
 smjerove\, zaplete i rasplete.\n&nbsp\;\nAutor teksta: Alan AyckbournPrije
 vod: Vladimir Cvetković SeverRedatelj: Rajko MinkovićUloge:Miriam - Ines B
 ojanićAnabela - Jasna Palić PicukarićAlisa - Hana Hegedušić / Ružica Mauru
 s\n&nbsp\;\nScenografkinja: Irena KraljićKostimografkinja: Ana MikulićRasv
 jeta: Goran KrmpotićTon: Dario HakGarderobijerka: Ljiljana RodićScenski po
 slovi: Renato Pok\nDizajn plakata i programske knjižice: Vladimir Resner\n
 Informacije i rezervacije na 034/273-161.Cijena ulaznice 50\,00 kn (studen
 ti i umirovljenici 40\,00 kn).Program se održava uz poštivanje svih propis
 anih epidemioloških mjera. https://www.gkp.hr/program/event/467-guja-u-nje
 drima-gradsko-kazaliste-pozega
DTSTART:20210606T180000Z
DTEND:20210606T192000Z
LOCATION:Gradsko kazalište Požega (Trg Svetog Trojstva\, 34000\, Požega\, C
 roatia)
SUMMARY:Guja u njedrima - Gradsko kazalište Požega
URL:https://www.gkp.hr/program/event/467-guja-u-njedrima-gradsko-kazaliste-
 pozega
END:VEVENT
END:VCALENDAR
