BEGIN:VCALENDAR
VERSION:2.0
PRODID:-//https://www.gkp.hr///NONSGML kigkonsult.se iCalcreator 2.10.15//
METHOD:PUBLISH
BEGIN:VEVENT
UID:20260423T153307UTC-2028T2njgk@https://www.gkp.hr/
DTSTAMP:20260423T153307Z
DESCRIPTION:Što se dogodi kada se u jednoj bajci pojave likovi iz poznatih 
 bajki?Kakvu košaru mama šalje po Crvenkapici\, kako Crvenkapica nadmudri v
 uka\, a kakvu kućicu ima baka?Što povezuje Snjeguljicu\, Trnoružicu i Zlat
 okosu?Kako u ovoj priči završi ružno pače i tko mu pomogne? Moraju li Ivic
 a i Marica baš uvijek ići u šumu s mamom i tatom? Odgovore na ova i mnoga 
 druga pitanja saznat ćete u ovoj zanimljivoj pokaznoj predstavi u kojoj i 
 patuljci pjevaju malo drugačiju pjesmicu\, a Snjeguljica ipak ne završi u 
 njihovoj kući\; u ovoj predstavi Pepeljuga i maćeha se vole…\nVoditeljica:
  Kornelija Marks\nIzvode polaznici Male škole kazališta u Požegi.\nDunja A
 kšamović – patuljak\, praščićPetra Aračić – maćeha\, pripovjedačFranka Boi
 ć – CrvenkapicaLeon Božić – princ\, lovac LukaMarta Domičić – SnjeguljicaL
 ara Di Giorgio – patuljak\, pripovjedačVanja Jurković – majka\, pripovjeda
 čSara Lončarić\, Trnoružica\, praščićMatej Mirković – vuk\, ZlatokosaKiara
  Novak – patuljak\, kozlićTena Novinc – IvicaSara Nedić – Marica\, Ružno p
 ačeDina Podobnik – bakica\, pripovjedačGabrijela Žiška – pepeljuga\, pripo
 vjedačRafael Kostadinović – patuljak\, praščić\nUlaz slobodan uz potrebnu 
 rezervaciju ulaznica.\nRezervacije: 034/273-161\, marketing@gkp.hr\, FB\nR
 adno vrijeme blagajne kazališta – srijedom i petkom od 10 do 12 sati\, čet
 vrtkom od 15 do 17 sati\, te sat vremena prije početka predstave. https://
 www.gkp.hr/program/event/578-bajka-zbrckalica-mala-skola-kazalista-u-pozeg
 i
DTSTART:20220611T160000Z
DTEND:20220611T170000Z
LOCATION:Gradsko kazalište Požega (Trg Svetog Trojstva\, 34000\, Požega\, C
 roatia)
SUMMARY:Bajka zbrčkalica - Mala škola kazališta u Požegi
URL:https://www.gkp.hr/program/event/578-bajka-zbrckalica-mala-skola-kazali
 sta-u-pozegi
END:VEVENT
END:VCALENDAR
