BEGIN:VCALENDAR
VERSION:2.0
PRODID:-//https://www.gkp.hr///NONSGML kigkonsult.se iCalcreator 2.10.15//
METHOD:PUBLISH
BEGIN:VEVENT
UID:20260425T031013UTC-5336tm4WpM@https://www.gkp.hr/
DTSTAMP:20260425T031013Z
DESCRIPTION:Što ako jedan od supružnika zagovara i dogovara slobodan brak\,
  ali čini to držeći figu u džepu\, uvjeren kako onaj drugi nikada ne bi bi
 o nevjeran?Protagonisti kazališne priče odlučili su svoje probleme riješit
 i otvorenim brakom\; prijedlog je to supruga koji se zalaže za potpunu bra
 čnu slobodu u svakom smislu\, naizgled\, spremno nudeći takav stil života 
 i svojoj supruzi. No\, koliko je zaista iskren u tome i je li ikad\, uisti
 nu\, bio spreman za njezinu nevjeru pogledajte u komediji 'Otvoreni brak'.
 &nbsp\;U komediji slavnog nobelovca\, bračni par glume Matija Prskalo i Sl
 avko Juraga\nCijena ulaznice: 7 EUR / 52\,74 kn (studenti i umirovljenici:
  5\,5 EUR / 41\,44 kn)Rezervacije: 034/273-161\, marketing@gkp.hr\, FBRadn
 o vrijeme blagajne kazališta – srijedom i petkom od 10 do 12 sati\, četvrt
 kom od 15 do 17 sati\, te sat vremena prije početka predstave\n&nbsp\; htt
 ps://www.gkp.hr/program/event/726-otvoreni-brak-gala-teatar
DTSTART:20230628T180000Z
DTEND:20230628T190000Z
LOCATION:Gradsko kazalište Požega (Trg Svetog Trojstva\, 34000\, Požega\, C
 roatia)
SUMMARY:Otvoreni brak - Gala teatar
URL:https://www.gkp.hr/program/event/726-otvoreni-brak-gala-teatar
END:VEVENT
END:VCALENDAR
