BEGIN:VCALENDAR
VERSION:2.0
PRODID:-//https://www.gkp.hr///NONSGML kigkonsult.se iCalcreator 2.10.15//
METHOD:PUBLISH
BEGIN:VEVENT
UID:20260420T140917UTC-4117Av2aHg@https://www.gkp.hr/
DTSTAMP:20260420T140917Z
DESCRIPTION:6. rujna u 21.30 sati\nCarevo novo ruho gostuje u Balama\, Trg 
 Tomaso Bembo https://www.gkp.hr/program/event/752-carevo-novo-ruho-gostova
 nje-u-balama
DTSTART:20230906T180000Z
DTEND:20230906T184500Z
LOCATION:Bale (Trg Tomaso Bembo)
SUMMARY:Carevo novo ruho - gostovanje u Balama
URL:https://www.gkp.hr/program/event/752-carevo-novo-ruho-gostovanje-u-bala
 ma
END:VEVENT
END:VCALENDAR
