BEGIN:VCALENDAR
VERSION:2.0
PRODID:-//https://www.gkp.hr///NONSGML kigkonsult.se iCalcreator 2.10.15//
METHOD:PUBLISH
BEGIN:VEVENT
UID:20260425T214022UTC-2877ne1f9r@https://www.gkp.hr/
DTSTAMP:20260425T214022Z
DESCRIPTION:1. Dani smijeha u Požegi /&nbsp\;Babinjak - Kerekesh teatar\nTe
 kst i režija: Ljubomir KerekešIgraju:Isidora FerenčinaMirna Medaković Step
 inacZdenka ŠustićLana Gojak Bajt“Babinjak” ne mora nužno biti trač partija
  ili razmjena recepata. U novoj predstavi Ljubomira Kerekeša\, “Babinjak” 
 čine Kata\, Seka\, Ružica i Boža\, članice Udruge žena “Moramo” koje imaju
  puno većih problema od običnog uživanja u traču. Odlučne u svojoj nakani 
 da opljačkaju lokalnu mesnicu jer im je bahati mesar prodao staro i pokvar
 eno meso zbog kojega je smrtno stradao Katin pas\, počinju pripreme za dug
 o očekivanu osvetu kako bi se konačno zauzele za sebe i pomogle u humanita
 rnoj akciji. Uz stalno preispitivanje svojih odluka i borbe sa strahom od 
 neuspjeha ova predstava će govoriti o problemima nasilja nad ženama\, o pr
 oblemima etiketiranja i omalovažavanja žena u društvu\, kao i o empatiji i
  međusobnoj pomoći koje danas u društvu ima sve manje. “Babinjak” okreće n
 ovu kazališnu stranicu Kerekesh Teatra.\nScenografija – Dario Horvat i Maj
 a DenacKostimografija – Mladen Grof Jerneić ErdödyMajstor rasvjete – Dario
  HorvatMajstor tona – Izak MeštrićDesign plakata – Maja DenacTrajanje pred
 stave: 75 minuta\nCijena ulaznice: 10 EUR\nKontakt: 099 273 1616\nKlikni i
  kupi ulaznicu online!\n&nbsp\; https://www.gkp.hr/program/event/889-babin
 jak-kerekesh-teatar
DTSTART:20240927T180000Z
DTEND:20240927T191500Z
LOCATION:Gradsko kazalište Požega (Trg Svetog Trojstva\, 34000\, Požega\, C
 roatia)
SUMMARY:Babinjak - Kerekesh teatar
URL:https://www.gkp.hr/program/event/889-babinjak-kerekesh-teatar
END:VEVENT
END:VCALENDAR
