BEGIN:VCALENDAR
VERSION:2.0
PRODID:-//https://www.gkp.hr///NONSGML kigkonsult.se iCalcreator 2.10.15//
METHOD:PUBLISH
BEGIN:VEVENT
UID:20260423T113718UTC-1382SDzhjL@https://www.gkp.hr/
DTSTAMP:20260423T113718Z
DESCRIPTION:Crvenkapica - Gradsko kazalište Požega u 10.00 i 11.00 hRežija:
  Ružica MaurusIzvode: Matko Trnačić\, Anabela Sulić i Kornelija Marks http
 s://www.gkp.hr/program/event/496-crvenkapica-gradsko-kazaliste-pozega
DTSTART:20210929T080000Z
DTEND:20210929T083000Z
LOCATION:Dječji vrtić 'Cvjetna livada' (Ul. kralja Krešimira 32 A\, Požega)
SUMMARY:Crvenkapica - Gradsko kazalište Požega
URL:https://www.gkp.hr/program/event/496-crvenkapica-gradsko-kazaliste-poze
 ga
END:VEVENT
END:VCALENDAR
