BEGIN:VCALENDAR
VERSION:2.0
PRODID:-//https://www.gkp.hr///NONSGML kigkonsult.se iCalcreator 2.10.15//
METHOD:PUBLISH
BEGIN:VEVENT
UID:20260423T095236UTC-82917bwcRX@https://www.gkp.hr/
DTSTAMP:20260423T095236Z
DESCRIPTION:Crvenkapica - Gradsko kazalište PožegaRežija: Ružica MaurusIzvo
 de: Matko Trnačić\, Anabela Sulić i Kornelija Marks https://www.gkp.hr/pro
 gram/event/497-crvenkapica-gradsko-kazaliste-pozega
DTSTART:20210930T080000Z
DTEND:20210930T083000Z
LOCATION:Katolička osnovna škola u Požegi (Ulica pape Ivana Pavla II 6\, Po
 žega)
SUMMARY:Crvenkapica - Gradsko kazalište Požega
URL:https://www.gkp.hr/program/event/497-crvenkapica-gradsko-kazaliste-poze
 ga
END:VEVENT
END:VCALENDAR
