BEGIN:VCALENDAR
VERSION:2.0
PRODID:-//https://www.gkp.hr///NONSGML kigkonsult.se iCalcreator 2.10.15//
METHOD:PUBLISH
BEGIN:VEVENT
UID:20260423T081341UTC-3670f2LLkn@https://www.gkp.hr/
DTSTAMP:20260423T081341Z
DESCRIPTION:Humorna monodrama „Jedna od sestara“Redatelj Robert RaponjaZašt
 o smo zbog ljudi kojima je nepojmljivo naše biće osuđeni skrivati svoje un
 utarnje svjetove\, istinu o sebi? Čemu strah od toga da nećemo uspjeti zad
 ovoljiti potrebe drugih ljudi\, da nećemo ispuniti očekivanja onih do koji
 h nam je nam je jako stalo? Studentica Irena dubinski traga za odgovorima 
 na ova pitanja u monodrami „Jedna od sestara“ Kordelije Paladin.Mnogi mlad
 i vode prave bitke saonima koji se o njima brinu i koji ih financiraju\, k
 ako bi se ostvarili\, i osmislili svoje živote na jedini pravi način – ost
 varenjem svog identiteta.Sedam različitih žena: mamu\, sestre\, bake i pri
 jateljice u ovoj humornoj monodrami utjelovljuje jedna glumica – Katica Šu
 barić.\nCijena ulaznice 50.00 kn (studenti i umirovljenici 40.00 kn)Inform
 acije i rezervacije na: 034/273-161 ili putem Facebooka od 20. rujna 2021.
 \n&nbsp\; https://www.gkp.hr/program/event/486-jedna-od-sestara-teatar-for
 t-forno
DTSTART:20211001T180000Z
DTEND:20211001T190000Z
LOCATION:Gradsko kazalište Požega (Trg Svetog Trojstva\, 34000\, Požega\, C
 roatia)
SUMMARY:Jedna od sestara - Teatar Fort Forno
URL:https://www.gkp.hr/program/event/486-jedna-od-sestara-teatar-fort-forno
END:VEVENT
END:VCALENDAR
