BEGIN:VCALENDAR
VERSION:2.0
PRODID:-//https://www.gkp.hr///NONSGML kigkonsult.se iCalcreator 2.10.15//
METHOD:PUBLISH
BEGIN:VEVENT
UID:20260422T071155UTC-4346ucnmzg@https://www.gkp.hr/
DTSTAMP:20260422T071155Z
DESCRIPTION:'Guja u njedrima' ('Snake In The Grass' 2002.) kazališni tekst 
 poznatog i svjetski priznatog autora Alana Ayckbourna na zanimljiv i intri
 gantan način donosi dojmljivu i slojevitu priču.\n&nbsp\;Nakon trideset go
 dina\, Anabela dolazi u obiteljski dom gdje živi njena mlađa sestra Miriam
  koja je cijeli svoj život ostala uz oca. Neposredno prije smrti otac je n
 eočekivano ostavio cijelo nasljedstvo Anabeli.Alisa\, njegovateljica pokoj
 nog oca\, ispriča joj kako je od Miriam dobila otkaz prije negoli je otac 
 preminuo i tvrdi da je njena sestra ubila oca. Alisa prijeti i ucjenjuje k
 ako će sve prijaviti policiji ukoliko joj se ne plati pozamašna svota novc
 a kao kompenzacija za otkaz i šutnju. Dvije sestre\, Anabela i Miriam\, uj
 edinjuju se u odluci da pokušaju riješiti problem s ucjenom.Vješto vođena 
 priča u više obrata donosi studiju obiteljskih odnosa između tri žene komp
 leksnih i „pomaknutih' karaktera.U izazovnim glumačkim interpretacijama\, 
 kroz crni humor i u duhu napetog psihološkog trilera\, pratimo potpuno neo
 čekivane smjerove\, zaplete i rasplete.\nAutor teksta: Alan AyckbournPrije
 vod: Vladimir Cvetković SeverRedatelj: Rajko MinkovićUloge:Miriam - Ines B
 ojanićAnabela - Jasna Palić PicukarićAlisa - Hana Hegedušić / Ružica Mauru
 s\nScenografkinja: Irena KraljićKostimografkinja: Ana MikulićRasvjeta: Gor
 an KrmpotićTon: Dario HakGarderobijerka: Ljiljana RodićScenski poslovi: Re
 nato PokDizajn plakata i programske knjižice: Vladimir Resner https://www.
 gkp.hr/program/event/492-guja-u-njedrima-gostovanje-u-vukovaru
DTSTART:20211015T170000Z
DTEND:20211015T182000Z
LOCATION:Hrvatski dom Vukovar (Ulica Josipa Jurja Strossmayera 20\, Vukovar
 )
SUMMARY:Guja u njedrima - gostovanje u Vukovaru
URL:https://www.gkp.hr/program/event/492-guja-u-njedrima-gostovanje-u-vukov
 aru
END:VEVENT
END:VCALENDAR
