BEGIN:VCALENDAR
VERSION:2.0
PRODID:-//https://www.gkp.hr///NONSGML kigkonsult.se iCalcreator 2.10.15//
METHOD:PUBLISH
BEGIN:VEVENT
UID:20260424T040236UTC-6285ofhHPU@https://www.gkp.hr/
DTSTAMP:20260424T040236Z
DESCRIPTION:O prijateljstvu\, o nadmetanju\, o suživotu dva prijatelja. Ovo
  je priča o jednom dvorištu\, dva susjeda i bezbroj zavrzlama. Darac i Mar
 ac\, žive jedan nasuprot drugog u malenom mjestu gdje vlada idila. Jedan v
 oli cvijeće\, a drugi svoj mir. Obojica u svoje slobodno vrijeme vole izać
 i u dvorište i udahnuti svježeg zraka\, odmoriti se i uživati\, no jednog 
 dana zvono na ulaznim vratima mijenja njihovu rutinu suživota u zajedničko
 m dvorištu. Raspisan je natječaj za uređenje najljepšeg vrta te se obojica
  odluče prijaviti. Prilikom uređenja nailaze na prepreke u ukusima te se o
 tvara pitanje gdje je točna granica njihovog dijela zemljišta.\nNeslaganje
  ih dovodi do najluđih rješenja u kojima običan natječaj za uređenje vrta 
 prerasta u pravu bitku za prevlast te dokazivanje da su obojica u pravu. P
 od koju cijenu su spremni obraniti svoj komadić zemlje i dokazati koliko s
 u tvrdoglavi\, možete pogledati u novoj komediji za sve uzraste koja nas u
 či zajedništvu\, prijateljstvu i dobrosusjedskim odnosima. A najvažnije od
  svega\, može li prijateljstvo nadrsati rivalstvo.\nRežija i dramaturgija:
  Marijana MatokovićGlume: Marko Hergešić i Ivan Grčić\nKostimografija\, ob
 likovanje i oslikavanje scenografije\, dizajn plakata: Danijela Gotal Grgu
 račGlazba: Bojan JambrošićScenski pokret: Tihana StrmečkiOblikovanje svjet
 la: Aleksandar FranjićIzrada scenografije: Zdravko Kovačević\nUzrast: 3+\n
 Cijena ulaznice: 5 EUR\nKlikni i kupi ulaznicu online!\nProdaja ulaznica i
 sključivo u radno vrijeme blagajne kazališta: srijedom i petkom od 10 do 1
 2 sati\, četvrtkom od 15 do 17 sati\, te sat vremena prije početka predsta
 ve\nKontakt: 099 273 1616 https://www.gkp.hr/program/event/894-darac-i-mar
 ac-gradsko-kazaliste-sisak
DTSTART:20241019T090000Z
DTEND:20241019T094000Z
LOCATION:Gradsko kazalište Požega (Trg Svetog Trojstva\, 34000\, Požega\, C
 roatia)
SUMMARY:DARac i MARac - Gradsko kazalište Sisak
URL:https://www.gkp.hr/program/event/894-darac-i-marac-gradsko-kazaliste-si
 sak
END:VEVENT
END:VCALENDAR
