BEGIN:VCALENDAR
VERSION:2.0
PRODID:-//https://www.gkp.hr///NONSGML kigkonsult.se iCalcreator 2.10.15//
METHOD:PUBLISH
BEGIN:VEVENT
UID:20260423T120057UTC-1739PuxZnX@https://www.gkp.hr/
DTSTAMP:20260423T120057Z
DESCRIPTION:O Grgi Čvarku - gostovanje u Pleternici\, IC Terra Panonica\nO 
 PREDSTAVI:Jednog od najpoznatijeg dječaka\, Grgu Čvarka mladi i stari\, dj
 eca i odrasli upoznali su davne 1967. godine kada je objavljena zbirka pje
 sama koja nosi baš njegovo ime. Autor Ratko Zvrko opisao ga je kao nestašn
 og\, zaigranog\, naopakog ali u isto vrijeme dobrog i brižnog dječaka. Ped
 eset i sedam godina nakon prvog pojavljivanja Grga Čvarak je i dalje isti 
 kao vječna inspiracija djeci i odraslima.“Čas dobar\, čas zao\, čas bi sva
 kom srce dao\, čas bi se sa vukom klao\, mršav\, tanak k’o suharak - Grga 
 Čvarak.Kako Grga provodi svoje dane? Može li Grga staviti mački soli na re
 p? Što je Grga dobio iz testa iz matematike? Što je čika Mika već sto puta
  rekao Grgi? Koja je Grgina omiljena pita? Odgovore na ta pitanja\, ali i 
 još ponešto pogledajte i poslušajte u predstavi “O Grgi Čvarku” prema teks
 tu Željke Siser\, a u režiji glumca i lutkara Andrije Krištofa.\nAUTORSKI 
 TIM:Autorica teksta: Željka SiserRedatelj: Andrija KrištofGlume: Anabela S
 ulić i Matko Trnačić\n&nbsp\; https://www.gkp.hr/program/event/906-o-grgi-
 cvarku-gostovanje-u-pleternici
DTSTART:20241022T080000Z
DTEND:20241022T084000Z
LOCATION:Interpretacijski centar Terra Panonica  (Trg Zrinskog i Frankopana
  4\, Pleternica)
SUMMARY:O Grgi Čvarku - gostovanje u Pleternici
URL:https://www.gkp.hr/program/event/906-o-grgi-cvarku-gostovanje-u-pletern
 ici
END:VEVENT
END:VCALENDAR
