BEGIN:VCALENDAR
VERSION:2.0
PRODID:-//https://www.gkp.hr///NONSGML kigkonsult.se iCalcreator 2.10.15//
METHOD:PUBLISH
BEGIN:VEVENT
UID:20260422T144005UTC-3627c5awxV@https://www.gkp.hr/
DTSTAMP:20260422T144005Z
DESCRIPTION:23. listopada u 10.00 sati\n21. DOMOSONG - glazbeno natjecanje 
 korisnika Domova za odrasle u RH / ulaz slobodan https://www.gkp.hr/progra
 m/event/902-21-domosong-glazbeno-natjecanje-korisnika-domova-za-odrasle-u-
 rh
DTSTART:20241023T080000Z
DTEND:20241023T100000Z
LOCATION:Gradsko kazalište Požega (Trg Svetog Trojstva\, 34000\, Požega\, C
 roatia)
SUMMARY:21. DOMOSONG - glazbeno natjecanje korisnika domova za odrasle u RH
URL:https://www.gkp.hr/program/event/902-21-domosong-glazbeno-natjecanje-ko
 risnika-domova-za-odrasle-u-rh
END:VEVENT
BEGIN:VEVENT
UID:20260422T144005UTC-3629HKisNU@https://www.gkp.hr/
DTSTAMP:20260422T144005Z
DESCRIPTION:23. listopada u 20.00 h\nKokoš gostuje u Sisku\, Dvorana INA ra
 finerije\nKomedija “Kokoš” Nikolaja Koljade satkana je od pet fantastičnih
  karaktera koji nam u međusobnim duhovitim i strastvenim obračunima donose
  sav sjaj i bijedu života - onog bračnog\, kazališnog\, ljubavnog i izvanb
 račnog\, tužnog i smiješnog. Događa se u kazališnom stanu\, sudionici su t
 ri glumice te jedan poluglumac i jedan propali redatelj\, a njihove isprep
 letene odnose lako čitamo u univerzalnom ključu\; te ih svatko od nas može
  prepoznati u vlastitom životu. Možda samo zbog toga što su svi oni kazali
 šni ljudi\, ranjivi\, frustrirani\, opaki\, duhoviti\, zajedljivi\, komičn
 i\, skloni dramatiziranju\, redaju pred našim očima prizore protkane salvo
 m emocija\, strastvenim svađama i mirenjima\, navikli na to da ih život ne
  mazi previše\, pa su i oni brutalno iskreni jedni prema drugima i prema s
 vemu onom što čini njihov život. No svatko od njih proživljavajući katarzu
  i veliku transformaciju postaje pred nama prava slika i mjera ljudskosti.
  Na ovoj blatnoj kugli u našim kratkim životima nije nam dano puno\, imamo
  samo vlastito iskustvo susreta s ljudima i samo o našoj spremnosti da čuj
 emo drugoga i o našoj toplini i susretljivosti ovisi koliko ćemo vrijedan 
 život živjeti i koliko će u njemu biti smisla. To je ono što nam Koljadini
  likovi poručuju i ako je kazalište ogledalo svijeta onda ćemo se u njima 
 ogledati\, a možda i prepoznati\, svatko na svoj način.Boris Svrtan\nautor
  teksta: Nikolaj Koljadaprevoditelj: Vladimir Gerićrežija i adaptacija tek
 sta: Boris Svrtanglume: Ines Bojanić\, Anabela Sulić\, Ivica Pucar\, Anton
 ija Stanišić Šperanda\, Ivan Vukelić https://www.gkp.hr/program/event/904-
 kokos-gostovanje-u-sisku
DTSTART:20241023T180000Z
DTEND:20241023T192000Z
LOCATION:Dom Ina rafinerije\, Sisak (Sisak)
SUMMARY:Kokoš - gostovanje u Sisku
URL:https://www.gkp.hr/program/event/904-kokos-gostovanje-u-sisku
END:VEVENT
END:VCALENDAR
