BEGIN:VCALENDAR
VERSION:2.0
PRODID:-//https://www.gkp.hr///NONSGML kigkonsult.se iCalcreator 2.10.15//
METHOD:PUBLISH
BEGIN:VEVENT
UID:20260425T031013UTC-2597BhsKfB@https://www.gkp.hr/
DTSTAMP:20260425T031013Z
DESCRIPTION:Režija: Rebecca AgićAdaptacija: Rebecca Agić\, prema scenariju 
 filma 'Superstar'Kostimografija\, scenografija: Rebecca AgićUloge:Marija K
 atarina: Nina DamjanovićVilibor: Kristijan ŽivčecJana: Duška JurićVelečasn
 i: Hrvoje PodobnikBaka: Izabela KisićHelena: Ana KaragićMilivoj: Filip Som
 ekHrvoje: Nikolina ČrnekOgnjen: Eleonora JerkovićPreko talent showa do pol
 jupca? Ovo je predstava nastala prema filmu 'Superstar' u kojem glume komi
 čarske zvijezde Will Ferrell i Mary Katherine Gallagher. Svakim dosadašnji
 m nastupom osvajali su srca publike i pružili nešto više od jednog sata sm
 ijeha i zabave.Zaplet počinje kada pomalo nespretna Marija Katarina koja ž
 ivi samo s bakom poželi da je primijeti najljepši dečko na školi\, Vilibor
 . Nažalost\, Marija Katarina nema baš puno šanse jer je Vilibor\, naravno\
 , već zauzet - i to s Janom\, najpopularnijom djevojkom u školi. No\, pril
 ike uvijek postoje\, a Marija Katarina svoju vidi u svećenikovoj najavi na
 tjecanja za mlade talente! Marija Katarina svakako razmišlja o prijavi jer
  bi joj pobjeda osigurala odlazak u Hollywood gdje bi glumila u filmu pozi
 tivnih moralnih vrijednosti. I privukla pažnju Vilibora. Velika joj je pot
 pora prijateljica Helena\, ali i zaljubljeni Milivoj\, dok su ostali prija
 telji tu uz nju\, ali istovremeno u svom 'posebnom' svijetu.\nCijena ulazn
 ice: 30.00 kn / 3\,98 EUR Rezervacije: 034/273-161\, marketing@gkp.hr\, FB
 Radno vrijeme blagajne kazališta – srijedom i petkom od 10 do 12 sati\, če
 tvrtkom od 15 do 17 sati\, te sat vremena prije početka predstave. https:/
 /www.gkp.hr/program/event/647-superzvijezda-tocka-na-i
DTSTART:20221209T190000Z
DTEND:20221209T200000Z
LOCATION:Gradsko kazalište Požega (Trg Svetog Trojstva\, 34000\, Požega\, C
 roatia)
SUMMARY:Superzvijezda - Točka na I
URL:https://www.gkp.hr/program/event/647-superzvijezda-tocka-na-i
END:VEVENT
END:VCALENDAR
