BEGIN:VCALENDAR
VERSION:2.0
PRODID:-//https://www.gkp.hr///NONSGML kigkonsult.se iCalcreator 2.10.15//
METHOD:PUBLISH
BEGIN:VEVENT
UID:20260421T015257UTC-3511JlkP3x@https://www.gkp.hr/
DTSTAMP:20260421T015257Z
DESCRIPTION:10. siječnja u 18.00 h\nTrio Rio gostuje u Kazalištu Virovitica
 \nMalena tročlana putujuća obitelj\, najstariji brat Mario i dvije mlađe s
 estre Daria i Rosaria\, vlakom idu od mjesta do mjesta u potrazi za publik
 om. Jer gdje ima publike\, ima i prostora za pokazati najluđe trikove koje
  su ih naučili roditelji\, a njih\, njihovi roditelji\, a njih\, njihovi r
 oditelji. Žongliranje\, akrobacije\, trikovi\, lutkarstvo\, gluma\, klauni
 ranje\; nema toga što trio u svom cirkusu Rio\, ne može izvesti. Kroz brat
 sko-sestrinske odnose učimo o vrijednostima\, o podršci\, o samopouzdanju\
 , povjerenju i hrabrosti jer svo troje ne mogu jedno bez drugoga. Stoga ne
  propustite ovu ludu akrobatsko-žonglersku trijadu koja će oduševiti sve č
 lanove obitelji.\nAutorski tim:Režija\, dramaturgija\, scenografija: Marij
 ana Matoković\nIzvode: Anabela Sulić\, Toni Leaković\, Marijana Matoković
 \nGlazba: Šimun Matišić\nKostimografija: Angela Runje\nScenski pokret: Ili
 jana Lončar\nSavjetnica za cirkuske elemente: Mariia Toryanyk\nDizajn plak
 ata: Domagoj KripOblikovanje svjetla: Goran KrmpotićIzrada scenografije: M
 ihael Kovačević\, Marija Matijanić\, Renato Pok\, Marijana Matoković\, Ana
 bela Sulić\, Toni LeakovićOblikovanje tona: Dario HakGarderobijerka: Ljilj
 ana RodićProdukcija: Gradsko kazalište Požega\, ožujak 2025. https://www.g
 kp.hr/program/event/1016-trio-rio-gostovanje-u-virovitici
DTSTART:20260110T170000Z
DTEND:20260110T174500Z
LOCATION:Kazalište Virovitica (Trg Ljudevita Patačića 2\, Virovitica)
SUMMARY:Trio Rio - gostovanje u Virovitici
URL:https://www.gkp.hr/program/event/1016-trio-rio-gostovanje-u-virovitici
END:VEVENT
END:VCALENDAR
