BEGIN:VCALENDAR
VERSION:2.0
PRODID:-//https://www.gkp.hr///NONSGML kigkonsult.se iCalcreator 2.10.15//
METHOD:PUBLISH
BEGIN:VEVENT
UID:20260421T014103UTC-8247vvrsSc@https://www.gkp.hr/
DTSTAMP:20260421T014103Z
DESCRIPTION:'Bila je hladna zimska noć. Posljednja večer u godini. Snijeg j
 e padao\, a grad je blistao pod svjetlima blagdanskih ukrasa.'Usred tog bl
 ještavila i topline domova\, jedna mala\, bosonoga djevojčica korača ulica
 ma. U ruci nosi jedino bogatstvo koje posjeduje – kutiju šibica. Prestraše
 na i sama\, traži utočište od ledene hladnoće\, a svaki plamen šibice otva
 ra joj vrata u svijet snova: toplu peć\, ukusnu večeru\, blistavo božićno 
 drvce\, i naposljetku\, zagrljaj voljene bake.Ova bezvremenska priča Hansa
  Christiana Andersena nije samo bajka\; to je snažna\, emotivna opomena o 
 suosjećanju\, ljudskoj ravnodušnosti i istinskoj toplini koja ne dolazi iz
  vatre\, već iz srca.Pozivamo vas da nam se pridružite u kazalištu i doživ
 ite ovu predivnu priču koja nas uči da prava magija Božića leži u dobroti 
 i brizi za one kojima je pomoć najpotrebnija...\nRežija i adaptacija tekst
 a: Ružica MaurusIzvode: Matko Trnačić\, Ružica Maurus\, Anabela Sulić\nRas
 vjeta i ton: Goran KrmpotićScenografija: Marija Matijanić\, Renato PokKost
 imi: Ljiljana Rodić\nZa dob: +4\nCijena ulaznice: 6 EUR\nKlikni i kupi ula
 znicu online!\nProdaja ulaznica u radno vrijeme blagajne kazališta: srijed
 om i petkom od 10 do 12 sati\, četvrtkom od 15 do 17 sati\, te sat vremena
  prije početka predstave.\nInformacije: 099 273 1616 https://www.gkp.hr/pr
 ogram/event/1034-djevojcica-sa-sibicama-gradsko-kazaliste-pozega
DTSTART:20251230T170000Z
DTEND:20251230T174500Z
LOCATION:Gradsko kazalište Požega (Trg Svetog Trojstva\, 34000\, Požega\, C
 roatia)
SUMMARY:Djevojčica sa šibicama - Gradsko kazalište Požega
URL:https://www.gkp.hr/program/event/1034-djevojcica-sa-sibicama-gradsko-ka
 zaliste-pozega
END:VEVENT
END:VCALENDAR
