BEGIN:VCALENDAR
VERSION:2.0
PRODID:-//https://www.gkp.hr///NONSGML kigkonsult.se iCalcreator 2.10.15//
METHOD:PUBLISH
BEGIN:VEVENT
UID:20260421T013829UTC-3152XUjW87@https://www.gkp.hr/
DTSTAMP:20260421T013829Z
DESCRIPTION:U ovo blagdansko vrijeme pridružite nam se na posebnoj večeri i
 spunjenoj dušom i melodijom – Ružica Maurus donosi koncert u kojemu će spo
 jiti najljepše sevdalinke\, evergreen klasike i skrivene dragulje tradicij
 e.Uz zvuk klavira\, violončela i violine\, Ružica vas vodi na glazbeno put
 ovanje kroz emocije: od nježne tuge do veselih ritmova.Dođite i uživajte u
  koncertu za pamćenje!Tomislav Parmać - klavirNeven Šverko - violončeloLeo
 pold Stašić - violinaBruna Oberan Bošković - gošća\nCijena ulaznice: 15 EU
 RProdaja ulaznica u radno vrijeme blagajne kazališta: srijedom i petkom od
  10 do 12 sati\, četvrtkom od 15 do 17 sati\, te sat vremena prije početka
  predstave.Informacije: 099 273 1616 https://www.gkp.hr/program/event/1035
 -gala-koncert-ruzica-maurus
DTSTART:20251229T190000Z
DTEND:20251229T203000Z
LOCATION:Gradsko kazalište Požega (Trg Svetog Trojstva\, 34000\, Požega\, C
 roatia)
SUMMARY:Gala koncert - Ružica Maurus
URL:https://www.gkp.hr/program/event/1035-gala-koncert-ruzica-maurus
END:VEVENT
END:VCALENDAR
