BEGIN:VCALENDAR
VERSION:2.0
PRODID:-//https://www.gkp.hr///NONSGML kigkonsult.se iCalcreator 2.10.15//
METHOD:PUBLISH
BEGIN:VEVENT
UID:20260421T013936UTC-46254FEHok@https://www.gkp.hr/
DTSTAMP:20260421T013936Z
DESCRIPTION:Komedija KULEN RUŽ – koprodukcija Gradskog kazališta Joza Ivaki
 ć Vinkovci i Kazališta Virovitica\nRežija: Dražen FerenčinaTekst\, scena\,
  plakat i kostimi: Dubravko Mataković\nIgraju:&nbsp\;Marko Hergešić\,&nbsp
 \;Andrija Krištof\,&nbsp\;Monika Duvnjak\,&nbsp\;Igor Golub\,&nbsp\;Goran 
 Koši\,&nbsp\;Matko Trnačić\nPredstava je namijenjena isključivo osobama st
 arijim od 18 godina.\nS obzirom na tematiku\, sadržaj i jezik\, predstava 
 je politički nekorektna i može sadržavati uvredljive elemente. Preporučuje
 mo da je doživite s razumijevanjem njezine umjetničke i kritičke namjere.
 \nRiječ je o nesvakidašnjem scenskom djelu koje\, prema predlošku i tekstu
  Dubravka Matakovića\, spaja strip\, kazalište i apsurd u groteskni prikaz
  društva koje radije prihvaća uljepšane laži nego neugodne istine. Kroz cr
 ni humor i politički nekorektan jezik\, predstava razotkriva licemjerje po
 litike\, medija i društvenih normi\, ne štedeći ni pretjerivanja ni ironij
 u. Dokle god se smijemo vlastitoj gluposti\, ima nade – poručuju autori pr
 edstave\, ističući da upravo humor\, ma koliko crn i pretjeran bio\, otvar
 a prostor za kritičko promišljanje stvarnosti.\n“Kulen ruž” je komedija Du
 bravka Matakovića koja spaja strip i kazalište\, a prikazuje apsurd svakod
 nevice i kritizira društvo\, politiku i medije kroz crni humor\, ironiju i
  pretjerivanje. Predstava nastoji pružiti otpor nametnutim društvenim norm
 ama i uljepšanim lažima\, naglašavajući slobodu govora i pravo na smijeh.
 \nCijena ulaznice: 12 EUR (studenti i umirovljenici 10 EUR)\nKlikni i kupi
  ulaznicu online!\nProdaja ulaznica u radno vrijeme blagajne kazališta: sr
 ijedom i petkom od 10 do 12 sati\, četvrtkom od 15 do 17 sati\, te sat vre
 mena prije početka predstave.\nKontakt: 099 273 1616 https://www.gkp.hr/pr
 ogram/event/1045-kulen-ruz-gk-joza-ivakic-vinkovci
DTSTART:20260115T190000Z
DTEND:20260115T203000Z
LOCATION:Gradsko kazalište Požega (Trg Svetog Trojstva\, 34000\, Požega\, C
 roatia)
SUMMARY:Kulen ruž - GK 'Joza Ivakić' Vinkovci
URL:https://www.gkp.hr/program/event/1045-kulen-ruz-gk-joza-ivakic-vinkovci
END:VEVENT
END:VCALENDAR
