BEGIN:VCALENDAR
VERSION:2.0
PRODID:-//https://www.gkp.hr///NONSGML kigkonsult.se iCalcreator 2.10.15//
METHOD:PUBLISH
BEGIN:VEVENT
UID:20260421T014139UTC-1585eA8Ix2@https://www.gkp.hr/
DTSTAMP:20260421T014139Z
DESCRIPTION:Svatko od nas barem je jednom bio onaj jedan jedini zaigrani u 
 društvu ozbiljnih\, ili baš taj jedan miran u društvu nemirnih\, ili onaj 
 koji je u društvu šutljivih – preglasan. Tako se i naša djevojčica Mila os
 jeća premalenom u svijetu velikih\, zbog čega njena starija sestra Vela pr
 ipremi za nju priču o kozi Milici – malenoj kozi na farmi punoj velikih ži
 votinja.\nU predstavi oživljavamo slikovnicu čije su velike stranice mašto
 vita scenografija među kojom žive inovativne lutke. Suigrom lutkarstva\, g
 lume i autorske glazbe pričamo priču o velikoj avanturi malene Milice. Dok
  sustanari njene štale\, krava manekenka Naomi Campbell\, vidovita prasica
  Nostradamusica i stari konj veteran Krešo na farmi žive bezbrižno\, kozic
 a Milica u svakodnevnoj je brizi: premala je da bi&nbsp\;se loptala s veli
 kim prijateljima\, premala je da bi jela svježe sjeno s vrha\, premala je 
 da bi preko ograde vidjela kakve je to pakete poštar dostavio njihovom gaz
 di Luletu koji se ne odvaja od svoje lule… Ali upravo svojom malenošću\, M
 ilica uspije spasiti živote svojih prijatelja te tako spoznaje kako nečija
  fizička veličina ne govori ništa o veličini njegova srca.\nOva topla i du
 hovita predstava priča je o odrastanju\, prijateljstvu\, upornosti i hrabr
 osti. „Velikom pričom o maloj Milici“ želimo prigrliti „drugačijost“ i nag
 lasiti kako se najvažniji trenutci u životu dogode kada prepoznamo snagu v
 lastite autentičnosti koja je\, kada jednom postane prihvaćena\, uvijek ve
 lika.\nAutorski tim\nRežija: Ivana Vukićević\nTekst: Hana Kunić\nGlazba: B
 ernabe Romero\nScenografija: Marko Delić\nLutke i lutkarski mehanizmi u sc
 enografiji: Aleksandra Vukićević\nIgraju: Katarina Arbanas de Romero i Lid
 ija Kraljić\nTrajanje: 35 min.\nUzrast: 4+\nCijena ulaznice: 5 EUR\nKlikni
  i kupi ulaznicu online!\nProdaja ulaznica u radno vrijeme blagajne kazali
 šta: srijedom i petkom od 10 do 12 sati\, četvrtkom od 15 do 17 sati\, te 
 sat vremena prije početka predstave.\nKontakt: 099 273 1616 https://www.gk
 p.hr/program/event/1046-velika-prica-o-maloj-milici-teatar-cirkus-punkt
DTSTART:20260117T100000Z
DTEND:20260117T103500Z
LOCATION:Gradsko kazalište Požega (Trg Svetog Trojstva\, 34000\, Požega\, C
 roatia)
SUMMARY:Velika priča o maloj Milici - Teatar Cirkus Punkt
URL:https://www.gkp.hr/program/event/1046-velika-prica-o-maloj-milici-teata
 r-cirkus-punkt
END:VEVENT
END:VCALENDAR
