BEGIN:VCALENDAR
VERSION:2.0
PRODID:-//https://www.gkp.hr///NONSGML kigkonsult.se iCalcreator 2.10.15//
METHOD:PUBLISH
BEGIN:VEVENT
UID:20260421T015545UTC-5906SdIovR@https://www.gkp.hr/
DTSTAMP:20260421T015545Z
DESCRIPTION:Dolina plesa! - Premijera - mlađe dobne skupine\nUO Plesna radi
 onica Ilijane Lončar planira u povodu 26 godina djelovanja realizirati pro
 jekt naziva „DOLINA PLESA“ u sklopu 20. zimske produkcije. Projekt obuhvać
 a 130 plesača koji su umjetničko edukacijski program vođen od strane samos
 talne umjetnice\, plesne pedagoginje i koreografkinje Ilijane Lončar provo
 dili tijekom 5 mjeseci ( rujan – siječanj)\, a javne prezentacije kreirano
 g programa su predviđene u Gradskom kazalištu Požega 24. i 25. siječnja 20
 26. u 11 i 18 sati uz tehničku podršku Gradskog kazališta Požega.\nAutorsk
 i tim:Umjetničko – pedagoško vodstvo i odabir glazbe: Ilijana LončarRasvje
 ta: Goran KrmpotićTon i video projekcije: Dario HakFotografija: Mladen Bož
 ičković i Robert DemoDesign promidžbenog materijala: Antun HiršmanKostimi:
  Ena Štefek i NTS Dancewear (Zagreb)Inspicijent: Laura LončarVideo prijeno
 s uživo: d &amp\; b mediaBackstage ekipa: Mirjana Kalem\, Marina Ivanković
  i plesači starijih grupa https://www.gkp.hr/program/event/1047-20-zimska-
 produkcija-uo-plesna-radionica-ilijane-loncar
DTSTART:20260124T100000Z
DTEND:20260124T113000Z
LOCATION:Gradsko kazalište Požega (Trg Svetog Trojstva\, 34000\, Požega\, C
 roatia)
SUMMARY:20. Zimska produkcija - UO Plesna radionica Ilijane Lončar
URL:https://www.gkp.hr/program/event/1047-20-zimska-produkcija-uo-plesna-ra
 dionica-ilijane-loncar
END:VEVENT
END:VCALENDAR
