BEGIN:VCALENDAR
VERSION:2.0
PRODID:-//https://www.gkp.hr///NONSGML kigkonsult.se iCalcreator 2.10.15//
METHOD:PUBLISH
BEGIN:VEVENT
UID:20260421T030728UTC-4008omieMz@https://www.gkp.hr/
DTSTAMP:20260421T030728Z
DESCRIPTION:Dolina plesa! - repriza - mlađe dobne skupine\nO Plesna radioni
 ca Ilijane Lončar planira u povodu 26 godina djelovanja realizirati projek
 t naziva „DOLINA PLESA“ u sklopu 20. zimske produkcije. Projekt obuhvaća 1
 30 plesača koji su umjetničko edukacijski program vođen od strane samostal
 ne umjetnice\, plesne pedagoginje i koreografkinje Ilijane Lončar provodil
 i tijekom 5 mjeseci ( rujan – siječanj)\, a javne prezentacije kreiranog p
 rograma su predviđene u Gradskom kazalištu Požega 24. i 25. siječnja 2026.
  u 11 i 18 sati uz tehničku podršku Gradskog kazališta Požega.\nAutorski t
 im:Umjetničko – pedagoško vodstvo i odabir glazbe: Ilijana LončarRasvjeta:
  Goran KrmpotićTon i video projekcije: Dario HakFotografija: Mladen Božičk
 ović i Robert DemoDesign promidžbenog materijala: Antun HiršmanKostimi: En
 a Štefek i NTS Dancewear (Zagreb)Inspicijent: Laura LončarVideo prijenos u
 živo: d &amp\; b mediaBackstage ekipa: Mirjana Kalem\, Marina Ivanković i 
 plesači starijih https://www.gkp.hr/program/event/1050-20-zimska-produkcij
 a-uo-plesna-radionica-ilijane-loncar
DTSTART:20260125T100000Z
DTEND:20260125T113000Z
LOCATION:Gradsko kazalište Požega (Trg Svetog Trojstva\, 34000\, Požega\, C
 roatia)
SUMMARY:20. Zimska produkcija - UO Plesna radionica Ilijane Lončar
URL:https://www.gkp.hr/program/event/1050-20-zimska-produkcija-uo-plesna-ra
 dionica-ilijane-loncar
END:VEVENT
END:VCALENDAR
