BEGIN:VCALENDAR
VERSION:2.0
PRODID:-//https://www.gkp.hr///NONSGML kigkonsult.se iCalcreator 2.10.15//
METHOD:PUBLISH
BEGIN:VEVENT
UID:20260421T014032UTC-3532bVTrPL@https://www.gkp.hr/
DTSTAMP:20260421T014032Z
DESCRIPTION:16. siječnja u 18.00 h\nDjevojčica sa šibicama gostuje u DK Bra
 nka Mihaljevića u Osijeku\n'Bila je hladna zimska noć. Posljednja večer u 
 godini. Snijeg je padao\, a grad je blistao pod svjetlima blagdanskih ukra
 sa.'Usred tog blještavila i topline domova\, jedna mala\, bosonoga djevojč
 ica korača ulicama. U ruci nosi jedino bogatstvo koje posjeduje – kutiju š
 ibica. Prestrašena i sama\, traži utočište od ledene hladnoće\, a svaki pl
 amen šibice otvara joj vrata u svijet snova: toplu peć\, ukusnu večeru\, b
 listavo božićno drvce\, i naposljetku\, zagrljaj voljene bake.Ova bezvreme
 nska priča Hansa Christiana Andersena nije samo bajka\; to je snažna\, emo
 tivna opomena o suosjećanju\, ljudskoj ravnodušnosti i istinskoj toplini k
 oja ne dolazi iz vatre\, već iz srca.Pozivamo vas da nam se pridružite u k
 azalištu i doživite ovu predivnu priču koja nas uči da prava magija Božića
  leži u dobroti i brizi za one kojima je pomoć najpotrebnija...\nRežija i 
 adaptacija teksta: Ružica MaurusIzvode: Matko Trnačić\, Ružica Maurus\, An
 abela Sulić\nRasvjeta i ton: Goran KrmpotićScenografija: Marija Matijanić\
 , Renato PokKostimi: Ljiljana Rodić\nZa dob: +4 https://www.gkp.hr/program
 /event/1053-djevojcica-sa-sibicama-gostovanje-u-osijeku
DTSTART:20260116T170000Z
DTEND:20260116T183500Z
LOCATION:Dječje kazalište Branka Mihaljevića u Osijeku (Trg bana Josipa Jel
 ačića 19 \, Osijek)
SUMMARY:Djevojčica sa šibicama - gostovanje u Osijeku
URL:https://www.gkp.hr/program/event/1053-djevojcica-sa-sibicama-gostovanje
 -u-osijeku
END:VEVENT
END:VCALENDAR
