BEGIN:VCALENDAR
VERSION:2.0
PRODID:-//https://www.gkp.hr///NONSGML kigkonsult.se iCalcreator 2.10.15//
METHOD:PUBLISH
BEGIN:VEVENT
UID:20260420T194834UTC-6496DcGXrV@https://www.gkp.hr/
DTSTAMP:20260420T194834Z
DESCRIPTION:&nbsp\;7. ožujka u 19.00 sati – LZD „Vila Velebita' – Koncert H
 KPD „Matija Gubec' Ruma\n&nbsp\;-ulaz besplatan https://www.gkp.hr/program
 /event/1068-koncert-hkpd-matija-gubec-ruma
DTSTART:20260307T170000Z
DTEND:20260307T183000Z
LOCATION:Gradsko kazalište Požega (Trg Svetog Trojstva\, 34000\, Požega\, C
 roatia)
SUMMARY:Koncert HKPD „Matija Gubec' Ruma 
URL:https://www.gkp.hr/program/event/1068-koncert-hkpd-matija-gubec-ruma
END:VEVENT
END:VCALENDAR
