BEGIN:VCALENDAR
VERSION:2.0
PRODID:-//https://www.gkp.hr///NONSGML kigkonsult.se iCalcreator 2.10.15//
METHOD:PUBLISH
BEGIN:VEVENT
UID:20260420T183350UTC-1494v3sRvP@https://www.gkp.hr/
DTSTAMP:20260420T183350Z
DESCRIPTION:8. ožujka u 19.00 sati - „Čuj Požegu\, šest pjesnika i jedan Vi
 jenac' - HKUD „Vijenac' Požega\n&nbsp\;-ulaz besplatan https://www.gkp.hr/
 program/event/1069-cuj-pozegu-sest-pjesnika-i-jedan-vijenac-hkud-vijenac-p
 ozega
DTSTART:20260308T180000Z
DTEND:20260308T193000Z
LOCATION:Gradsko kazalište Požega (Trg Svetog Trojstva\, 34000\, Požega\, C
 roatia)
SUMMARY:„Čuj Požegu\, šest pjesnika i jedan Vijenac' -  HKUD „Vijenac' Pože
 ga 
URL:https://www.gkp.hr/program/event/1069-cuj-pozegu-sest-pjesnika-i-jedan-
 vijenac-hkud-vijenac-pozega
END:VEVENT
END:VCALENDAR
