BEGIN:VCALENDAR
VERSION:2.0
PRODID:-//https://www.gkp.hr///NONSGML kigkonsult.se iCalcreator 2.10.15//
METHOD:PUBLISH
BEGIN:VEVENT
UID:20260420T183248UTC-33753nsZVC@https://www.gkp.hr/
DTSTAMP:20260420T183248Z
DESCRIPTION:28. ožujka u 19.00 sati - 'Oj Požego u tebi je lipo'- Gradu na 
 dar / Koncert Folklornog ansambla Požega\n-ulaz besplatan https://www.gkp.
 hr/program/event/1070-oj-pozego-u-tebi-je-lipo-folklorni-ansambl-pozega
DTSTART:20260328T180000Z
DTEND:20260328T193000Z
LOCATION:Gradsko kazalište Požega (Trg Svetog Trojstva\, 34000\, Požega\, C
 roatia)
SUMMARY:'Oj Požego u tebi je lipo' -  Folklorni ansambl Požega 
URL:https://www.gkp.hr/program/event/1070-oj-pozego-u-tebi-je-lipo-folklorn
 i-ansambl-pozega
END:VEVENT
END:VCALENDAR
