BEGIN:VCALENDAR
VERSION:2.0
PRODID:-//https://www.gkp.hr///NONSGML kigkonsult.se iCalcreator 2.10.15//
METHOD:PUBLISH
BEGIN:VEVENT
UID:20260420T182801UTC-2602azu4ci@https://www.gkp.hr/
DTSTAMP:20260420T182801Z
DESCRIPTION:PREMIJERA - Tri praščića (u policijskoj postaji)\nTri praščića 
 (u policijskoj postaji) duhovita je i topla reinterpretacija klasične prič
 e u kojoj se susreću svakodnevni izazovi\, predrasude i neočekivana prijat
 eljstva. Troje praščića: ozbiljni Miran\, paničar Kuki i sanjivi Snuki\, s
 pletom čudnih okolnosti i u strahu od zlog vuka upadaju u šumsku policijsk
 u postaju tražeći hitnu pomoć. U kaosu istrage i nizu upitnika iskaču tri 
 ključna pitanja: tko je taj vuk\, gdje se skriva i je li on zaista krimina
 lac koji lovi praščiće?\nPredstava suptilno otkriva kako stereotipi o luka
 vom vuku i naivnim praščićima skrivaju srca željna razumijevanja i poveziv
 anja. Smiješnim situacijama\, dirljivim trenutcima i pokojom lutkom naglaš
 ava empatiju koja ruši zidove predrasuda brže od bagera\, potiče suradnju 
 i prihvaćanje onih koji su drugačiji. Ova napeta i čudnovata priča\, namij
 enjena jednako djeci i odraslima\, podsjeća nas na važnost tolerancije u s
 vijetu koji vrvi raznolikošću.\nAutorski tim:\nRežija i dramatizacija: Dav
 or Tarbuk\nGlumci: Ankica Ivanković\, Anabela Sulić\, Matko Trnačić\, Ivan
  Vukelić\nIzrada lutaka: Krešimir Tomac\nGlazba i projekcije: Dario Hak\nD
 izajn svjetla: Goran Krmpotić\nMajstor scene: Renato Pok\nKostimi/garderob
 ijerka: Ljiljana Rodić\nIzrada plakata: Marko Bukulin\nProdukcija: Gradsko
  kazalište Požega\, ožujak 2026.\nCijena ulaznice: 5 EUR\nKlikni i kupi ul
 aznicu online!\nProdaja ulaznica u radno vrijeme blagajne kazališta: srije
 dom i petkom od 10 do 12 sati\, četvrtkom od 15 do 17 sati\, te sat vremen
 a prije početka predstave.\nKontakt: 099 273 1616 https://www.gkp.hr/progr
 am/event/1071-premijera-tri-prascica
DTSTART:20260321T100000Z
DTEND:20260321T104500Z
LOCATION:Gradsko kazalište Požega (Trg Svetog Trojstva\, 34000\, Požega\, C
 roatia)
SUMMARY:PREMIJERA - Tri praščića
URL:https://www.gkp.hr/program/event/1071-premijera-tri-prascica
END:VEVENT
END:VCALENDAR
