BEGIN:VCALENDAR
VERSION:2.0
PRODID:-//https://www.gkp.hr///NONSGML kigkonsult.se iCalcreator 2.10.15//
METHOD:PUBLISH
BEGIN:VEVENT
UID:20260424T010826UTC-3059KllLJC@https://www.gkp.hr/
DTSTAMP:20260424T010826Z
DESCRIPTION:U Galeriji 'Ciraki' otvorenje izložbe likovnih radova 'Europska
  dimenzija grada Požege' u organizaciji Požeškog ogranka Hrvatske paneurop
 ske unije. https://www.gkp.hr/program/event/256-otvorenje-izlozbe-europska
 -dimenzija-grada-pozege
DTSTART;VALUE=DATE:20181011
LOCATION:Gradsko kazalište Požega - Galerija Ciraki ()
SUMMARY:Otvorenje izložbe 'Europska dimenzija grada Požege'
URL:https://www.gkp.hr/program/event/256-otvorenje-izlozbe-europska-dimenzi
 ja-grada-pozege
END:VEVENT
END:VCALENDAR
