BEGIN:VCALENDAR
VERSION:2.0
PRODID:-//https://www.gkp.hr///NONSGML kigkonsult.se iCalcreator 2.10.15//
METHOD:PUBLISH
BEGIN:VEVENT
UID:20260424T035636UTC-4656v75LEA@https://www.gkp.hr/
DTSTAMP:20260424T035636Z
DESCRIPTION:GKUD Požega - Godišnji koncert\nGodišnji koncert Gradskog kultu
 rno umjetničkog društva Požega 'Požegi\, s ljubavlju'&nbsp\; https://www.g
 kp.hr/program/event/307-godisnji-koncert-gkud-pozega
DTSTART:20190316T190000Z
DTEND:20190316T200000Z
LOCATION:Gradsko kazalište Požega (Trg Svetog Trojstva\, 34000\, Požega\, C
 roatia)
SUMMARY:Godišnji koncert GKUD Požega
URL:https://www.gkp.hr/program/event/307-godisnji-koncert-gkud-pozega
END:VEVENT
END:VCALENDAR
