BEGIN:VCALENDAR
VERSION:2.0
PRODID:-//https://www.gkp.hr///NONSGML kigkonsult.se iCalcreator 2.10.15//
METHOD:PUBLISH
BEGIN:VEVENT
UID:20260424T010826UTC-9229ZNPpB2@https://www.gkp.hr/
DTSTAMP:20260424T010826Z
DESCRIPTION:Otvorenje izložbe\n&nbsp\;Izložba koja daje presjek 22 godine r
 ada Slavice Jelić sa Malom&nbsp\;školom kazališta\, kroz fotografije i tek
 stove\, djeliće njezinog&nbsp\;dramsko-pedagoškog rada. Ovom prilikom pozi
 vamo i mi sve nekadašnje polaznike Male škole da dođu u srijedu\, 27.ožujk
 a u 19 sati na otvorenje&nbsp\; izložbe kako bi i sami posvetili trenutak 
 pozornosti svojoj&nbsp\; dugogodišnjoj voditeljici. https://www.gkp.hr/pro
 gram/event/312-slavica-jelic-22-godine-u-kazalistu
DTSTART:20190327T190000Z
DTEND:20190327T194500Z
LOCATION:Gradsko kazalište Požega - Galerija Ciraki ()
SUMMARY:Slavica Jelić - 22. godine u kazalištu
URL:https://www.gkp.hr/program/event/312-slavica-jelic-22-godine-u-kazalist
 u
END:VEVENT
END:VCALENDAR
