BEGIN:VCALENDAR
VERSION:2.0
PRODID:-//https://www.gkp.hr///NONSGML kigkonsult.se iCalcreator 2.10.15//
METHOD:PUBLISH
BEGIN:VEVENT
UID:20260424T035652UTC-2607UurnUA@https://www.gkp.hr/
DTSTAMP:20260424T035652Z
DESCRIPTION:Audicija za Super glas na Aurea Festu. https://www.gkp.hr/progr
 am/event/328-audicija-za-aurea-fest-super-glas
DTSTART:20190511T100000Z
DTEND:20190511T110000Z
LOCATION:Gradsko kazalište Požega (Trg Svetog Trojstva\, 34000\, Požega\, C
 roatia)
SUMMARY:Audicija za Aurea Fest Super glas
URL:https://www.gkp.hr/program/event/328-audicija-za-aurea-fest-super-glas
END:VEVENT
END:VCALENDAR
