BEGIN:VCALENDAR
VERSION:2.0
PRODID:-//https://www.gkp.hr///NONSGML kigkonsult.se iCalcreator 2.10.15//
METHOD:PUBLISH
BEGIN:VEVENT
UID:20260424T010828UTC-1550J5XUG5@https://www.gkp.hr/
DTSTAMP:20260424T010828Z
DESCRIPTION:Izložba ruske karikature https://www.gkp.hr/program/event/329-i
 zlozba-ruske-karikature
DTSTART:20190513T180000Z
DTEND:20190513T190000Z
LOCATION:Gradsko kazalište Požega - Galerija Ciraki ()
SUMMARY:Izložba ruske karikature
URL:https://www.gkp.hr/program/event/329-izlozba-ruske-karikature
END:VEVENT
END:VCALENDAR
