BEGIN:VCALENDAR
VERSION:2.0
PRODID:-//https://www.gkp.hr///NONSGML kigkonsult.se iCalcreator 2.10.15//
METHOD:PUBLISH
BEGIN:VEVENT
UID:20260424T010857UTC-6650RUcf8S@https://www.gkp.hr/
DTSTAMP:20260424T010857Z
DESCRIPTION:Izložba povodom 27. Hrvatskog festivala jednominutnog filma. ht
 tps://www.gkp.hr/program/event/335-izlozba-povodom-27-hrv-festivala-jednom
 inutnog-filma
DTSTART:20190529T190000Z
DTEND:20190529T194500Z
LOCATION:Gradsko kazalište Požega - Galerija Ciraki ()
SUMMARY:Izložba povodom 27. Hrv. festivala jednominutnog filma
URL:https://www.gkp.hr/program/event/335-izlozba-povodom-27-hrv-festivala-j
 ednominutnog-filma
END:VEVENT
END:VCALENDAR
