BEGIN:VCALENDAR
VERSION:2.0
PRODID:-//https://www.gkp.hr///NONSGML kigkonsult.se iCalcreator 2.10.15//
METHOD:PUBLISH
BEGIN:VEVENT
UID:20260424T012702UTC-6958txDmR8@https://www.gkp.hr/
DTSTAMP:20260424T012702Z
DESCRIPTION:Desetu godinu projekta Požart obilježavamo izložbom sudionika i
  članova Požarta od 2010. do danas. Izložba će biti otvorena tijekom cijel
 og lipnja u Galeriji Ciraki\, Gradsko kazalište Požega. Uz izložbu priprem
 amo i popratne programe: slikanje murala na zidu kazališta\, noćne vikend 
 radionice&nbsp\; u atriju kazališta\, predstavljanje monografije X godina 
 Požarta.&nbsp\;\nNajavljujemo Požart na Gori 28. i 29. lipnja - slikarska&
 nbsp\; i kiparska kolonija na Sokolovcu\, oblikovanja i pečenja gline na o
 tvorenom . Radionicu gline vodit će Mišo Gusić\, educ.art. iz Nove Gradišk
 e.\nOrganizator:&nbsp\;\nUdruga za pomicanje kulture Požart\,&nbsp\;\nuz p
 otporu Ministarstva kulture Republike Hrvatske\,&nbsp\;\nGrada Požege i Po
 žeško slavonske županije.\n https://www.gkp.hr/program/event/351-x-godisnj
 a-izlozba-pozarta
DTSTART:20190601T210000Z
DTEND:20190601T220000Z
LOCATION:Gradsko kazalište Požega - Galerija Ciraki ()
SUMMARY:X. godišnja izložba Požarta
URL:https://www.gkp.hr/program/event/351-x-godisnja-izlozba-pozarta
END:VEVENT
END:VCALENDAR
