BEGIN:VCALENDAR
VERSION:2.0
PRODID:-//https://www.gkp.hr///NONSGML kigkonsult.se iCalcreator 2.10.15//
METHOD:PUBLISH
BEGIN:VEVENT
UID:20260423T002218UTC-3850mxaEEA@https://www.gkp.hr/
DTSTAMP:20260423T002218Z
DESCRIPTION:Gostovanje u Pleternici. https://www.gkp.hr/program/event/367-i
 di-pa-vidi-didi-gostovanje-u-pleternici
DTSTART:20191007T100000Z
DTEND:20191007T104000Z
LOCATION:Trg bećarca (Trg bećarca\, Pleternica)
SUMMARY:Idi pa vidi\, Didi  - gostovanje u Pleternici
URL:https://www.gkp.hr/program/event/367-idi-pa-vidi-didi-gostovanje-u-plet
 ernici
END:VEVENT
END:VCALENDAR
