BEGIN:VCALENDAR
VERSION:2.0
PRODID:-//https://www.gkp.hr///NONSGML kigkonsult.se iCalcreator 2.10.15//
METHOD:PUBLISH
BEGIN:VEVENT
UID:20260421T022532UTC-0429EcBVZt@https://www.gkp.hr/
DTSTAMP:20260421T022532Z
DESCRIPTION:Gusarsko blago:\nJednom davno.......u vrijeme dok sam plovila b
 rodom od bombona....dalekim čokoladnim&nbsp\;morima\, a gdje su otoci od p
 udinga i šlaga.... tražili smo blago 'Jednookog Willia'. Najveće blago na
 \nsvijetu!!!!&nbsp\;Troje mladih izviđača\; djevojčica Jurija\, vjeverica 
 Mimi i zmaj Zdenko nakon što se domognu&nbsp\;karte\, kreću u lov na skriv
 eno gusarsko blago. Na kakve će probleme naići\, te kao se iz njih izvući\
 ,\ndođite i saznajte u Gradskom kazalištu Požega 19. listopada u 11.00 sat
 i.\nGlume: Monika Kostić\, Kornelija Marks\, Kristina Novak i Ilija Paović
 .\nRežija: Dario Hak\nInformacije i rezervacije od: 30. rujna 2019.\nCijen
 a ulaznice 20.00 kn https://www.gkp.hr/program/event/374-gusarsko-blago-gr
 adsko-kazaliste-pozega
DTSTART:20191019T110000Z
DTEND:20191019T114000Z
LOCATION:Gradsko kazalište Požega (Trg Svetog Trojstva\, 34000\, Požega\, C
 roatia)
SUMMARY:Gusarsko blago - Gradsko kazalište Požega
URL:https://www.gkp.hr/program/event/374-gusarsko-blago-gradsko-kazaliste-p
 ozega
END:VEVENT
END:VCALENDAR
