BEGIN:VCALENDAR
VERSION:2.0
PRODID:-//https://www.gkp.hr///NONSGML kigkonsult.se iCalcreator 2.10.15//
METHOD:PUBLISH
BEGIN:VEVENT
UID:20260420T051440UTC-57012mnVHp@https://www.gkp.hr/
DTSTAMP:20260420T051440Z
DESCRIPTION:Stand-up komedija Željka Pervana\n„Predzadji put“\nCijena ulazn
 ice: 60\,00 kn\nŽeljko Pervan majstor je improvizacije\, obožavatelj Slove
 naca\, smrknuti profesor\, živahni govornik i komentator hrvatske svakodne
 vice.\nŽeljko Pervan progovorio je sa 6 mjeseci i do dana današnjeg govori
 .\nNajdužajezičina\, kako sebe voli nazvati\, komičar dolazi u Požegu\, če
 tvrtak 21.11. s početkom u 20.00 u Gradsko kazalište. Prodaja ulaznica na 
 blagajni Kazališta.\nNakon&nbsp\; tri rasprodane velike dvorane KD V.Lisin
 skoga i više od 5500 posjetitelja\nomiljeni hrvatski komičar\, dijagnostič
 ar i urnebesan kroničar političke i društvene zbilje dolazi u Požegu.\n'Od
  svega što sam rekao u svojih 55 godina i 6 mjeseci\, u ovoj predstavi spr
 emam najbolja 90 minuta!'\nZbog popularnosti i načina izvođenja na dosadaš
 njim nastupima\, za ovu predstavu se u pravilu tražila karta više.\nČisti 
 humor bez ikakvih rekvizita: čovjek i njegova duhovitost.\n&nbsp\;\nŽeljko
  Pervan progovorio je sa 6 mjeseci i do dana današnjeg govori. Karijeru ko
 mičara započeo je sredinom osamdesetih godina prošlog stoljeća u kultnoj e
 misiji Radija 101 Zločesta djeca. Pokretanjem OTV-a svojem audio izričaju 
 dodaje vizualni radeći emisije Top lista šovinista\, Serbus Zagreb\, Mala 
 škola loše glume\, Kalamburgud kviz\, Večernja škola\, Malo morgen\, Perva
 novo.\nPisao je za dnevne novine te je na Hrvatskoj radioteleviziji\, Novo
 j TV\, RTL-u\, 2. programu Hrvatskog radija\, Radiju Sljeme uređivao i/ili
  vodio emisije Večernja škola\, game show Uzmi ili ostavi\, Iza paravana\,
  Pervanov dnevnik. Pisao je kolumne za Vjesnik i 24sata.\nDevet mjeseci je
  nastupao na noćnoj sceni kazališta Kerempuh i glumio u više domaćih igran
 ih serija. Prvi stand-up nastup imao je u Comedy Clubu Tiger Lilly te dosa
 d broji više od 600 nastupa u Hrvatskoj\, BiH\, Srbiji\, Sloveniji\, Austr
 iji i Njemačkoj. Dobitnik je nagrada 7 sekretara SKOJ-a\, Zlatne liske za 
 najbolju predstavu u Mostaru na regionalnom festivalu\, tri Zlatna&nbsp\; 
 ekrana Večernjeg lista za najbolju autorsku emisiju i najboljeg voditelja.
 \nGodine 1989. prelazi na nezavisnu TV-kuću OTV. Upoznao je Zlatana Zuhrić
 a Zuhru\, s kojim je započeo suradnju na raznim skečevima. Izradio je konc
 ept satiričnog\, bezobraznog showa 'Zločesta djeca'\, gdje je upoznao i sp
 rijateljio sa Vinkom Grubišićem i nastupao u raznim skečevima\, kao što su
  Rade u bunaru\, Ispitivanje Hrvata u Vojvodini\, šaljivi glazbeni spot 'S
 ervus Zagreb'\, sinkronizirani dnevnik i druge emisije ili filmovi (kao na
  primjer film 'Ime ruže'\, (razgovor Hloverke i Dražena Budiše).\nU to vri
 jeme imao je male nastupe i u manje hvaljenom humorističkom showu 'Jel' me
  neko tražio'.\nNa OTV-u Pervan započinje i humoristički show 'Večernja šk
 ola'\; u toj spontanoj\, većinom improviziranoj emisiji glumio je profesor
 a u večernjoj školi koji je podučavao četiri odrasle osobe: Aljošu\, Denis
 a\, Antimona i Tetka (Zlatan Zuhrić Zuhra\, Mladen Horvat\, Ahmed El Rahim
 \, Đuro Utješanović)\, te sa njima raspravljao o svijetu i životu. Šale su
  se zbijale na račun političara\, plaća\, umirovljenika\, Čeha\, Slovenije
  i drugih tema.\nGodine 2004. angažman je Pervanu ponudio HRT. Pervan je s
  oduševljenjem prihvatio\, te je dobio dvije emisije u kojima je bio vodit
 elj\; osim 'Večernje škole' vodio je i kviz 'Uzmi ili ostavi'. Nastupio je
  i kao stand up komičar na turneji po Hrvatskoj pod nazivom 'Božanstvena k
 omedija'. Godine 2006. osvojio je nagradu Večernjakov 'Ekran' u kategoriji
  Muška TV osoba - informativni i kulturni sadržaj\, za emisiju 'Večernja š
 kola'.\nNaime\, Željko Pervan godinama tijekom ljeta stanuje u Kašteliru p
 ored Poreča\, i ističe da mu je istarska publika medju najdražima i da se 
 tu osjeća kao svoj medju&nbsp\; svojima. Njegova doradjena predstava „Boža
 nstvena komedija' koju je preoblikovao u&nbsp\; novu komediju pod nazivom 
 „Na rubu Europe“\, vrhunac je stand up komedije u Hrvatskoj. Od nastanka l
 egendarne večernje škole do sada nekoliko puta pohodio je hrvatske gradove
  (ali i susjedne države:Sloveniju\, BiH...)i skoro uvijek se tražila ulazn
 ica više. Njemu su omiljene teme Slovenci i žene . Ismijava&nbsp\; i želju
  Hrvatske da uđe u Europsku uniju u kojoj su Grčka\, Bugarska 'koja ima 24
  kilometra autoputa' i Italija u kojoj\, čuo je\, 'nema mita i korupcije'.
 \nNa nišan je&nbsp\; HDZ\, ali i SDP. Komentira&nbsp\; i akciju 'Kupujte h
 rvatsko'. 'S čim?'\, pita se on\, što mu je&nbsp\; tek uvod da malo prokom
 entira cijene i kvalitetu hrvatskih proizvoda na komentira i razne kupovne
  navike ljudi (rasprodaja zimskih kaputa: a kao da ima i ljetnih kaputa ?)
 . Nezaobilazna&nbsp\; tema&nbsp\; su i Slovenci te veličina njihove države
 : kaže da imaju koče a svoje ribe sve znaju po imenu. Imaju i jednog ugora
  koji je\, đubre\, narastao pa je sada pola u Hrvatskoj a polovinom u Slov
 eniji.\nIpak\, Pervan se osjeća kao kod kuće kada je riječ o odnosima žena
  i muškaraca. 'Čim žena kaže 'da'\, u crkvi dobije 50 kila. Onda bi je mla
 doženja trebao prevesti preko kućnog praga. S čim? S viljuškarom?'. Ne ost
 ao dužan ni muškima: 'Mi se borimo\, lovimo\, ulazimo u HDZ\, ali bojimo s
 e žena'\, komentirao je u svom zajedljivom stilu.\nNjegova je satira ipak 
 doseže vrhunac zajedljivosti kada je spomene Zakon o zabrani pušenja. 'Sam
 o nemojte pušiti\, kaže onaj ministar zdravstva\, kako mu je ime\, a od 50
  reklama\, 49 je za pivo koje reklamiraju sve mlađi glumci. Ali to nije bi
 tno\, samo loči. Pušenje ubija\, a ovo kao ne'\, u svom stilu pita se Perv
 an koji&nbsp\; kaže da u kafićima zamoli konobara da ga odvoji od onih koj
 i piju alkohol jer mu bazdi.\n&nbsp\;\n&nbsp\; https://www.gkp.hr/program/
 event/390-zeljko-pervan-stand-up-comedy
DTSTART:20191122T200000Z
DTEND:20191122T213000Z
LOCATION:Gradsko kazalište Požega (Trg Svetog Trojstva\, 34000\, Požega\, C
 roatia)
SUMMARY:Željko Pervan - Stand up comedy
URL:https://www.gkp.hr/program/event/390-zeljko-pervan-stand-up-comedy
END:VEVENT
END:VCALENDAR
